BEGIN:VCALENDAR
VERSION:2.0
PRODID:-//ChamberMaster//Event Calendar 2.0//EN
METHOD:PUBLISH
X-PUBLISHED-TTL:P3D
REFRESH-INTERVAL:P3D
CALSCALE:GREGORIAN
BEGIN:VEVENT
DTSTART:20130802T200000Z
DTEND:20130802T211500Z
X-MICROSOFT-CDO-ALLDAYEVENT:FALSE
SUMMARY:Finding and Retaining a Talented Workforce
DESCRIPTION:Moderated by Diane Duguay of Kraus Anderson Construction Company\, panelists will discuss how to find and keep quality employees. John Peichel of GE Power & Water and Cathy Trotter of Walmart-Blaine will share success stories within their organizations.  John Jung of Doherty Staffing Solutions will share what he is doing to engage talent in the workplace from a staffing agency prospective. Meghan Hathaway\, Minnesota School of Business and active Young Professionals of Minnesota member\, will highlight the student/young professional perspective. Audience Q&A will follow their remarks.
X-ALT-DESC;FMTTYPE=text/html:<span style="font-size: medium\;"><span style="font-size: 14px\;"><span style="font-family: arial\;">Moderated by Diane Duguay of Kraus Anderson Construction Company\, panelists will discuss how to find and keep quality employees. John Peichel of GE Power &amp\; Water and Cathy Trotter of Walmart-Blaine will share success stories within their organizations. &nbsp\;John Jung of Doherty Staffing Solutions will share what he is doing to engage talent in the workplace from a staffing agency prospective. Meghan Hathaway\, Minnesota School of Business and active Young Professionals of Minnesota member\, will highlight the student/young professional perspective. Audience Q&amp\;A will follow their remarks</span></span>.</span><br />\n
LOCATION:TPC - Blaine
UID:e.380.149278
SEQUENCE:3
DTSTAMP:20260424T192404Z
URL:http://members.metronorthchamber.org/events/details/finding-and-retaining-a-talented-workforce-08-02-2013-149278
END:VEVENT

END:VCALENDAR
