BEGIN:VCALENDAR
VERSION:2.0
PRODID:-//ChamberMaster//Event Calendar 2.0//EN
METHOD:PUBLISH
X-PUBLISHED-TTL:P3D
REFRESH-INTERVAL:P3D
CALSCALE:GREGORIAN
BEGIN:VEVENT
DTSTART;VALUE=DATE:20200108
DTEND;VALUE=DATE:20200109
TRANSP:TRANSPARENT
X-MICROSOFT-CDO-ALLDAYEVENT:TRUE
SUMMARY:FIleMaker Pro Training
DESCRIPTION:Chamber members get a $50 discount when apply for our FileMaker training.
X-ALT-DESC;FMTTYPE=text/html:Chamber members get a $50 discount when apply for our FileMaker training.
LOCATION:11116 Zealand Ave N Champlin\, MN 55316
UID:e.380.191022
SEQUENCE:3
DTSTAMP:20260419T124352Z
URL:http://members.metronorthchamber.org/events/details/filemaker-pro-training-191022
END:VEVENT

END:VCALENDAR
