BEGIN:VCALENDAR
VERSION:2.0
PRODID:-//ChamberMaster//Event Calendar 2.0//EN
METHOD:PUBLISH
X-PUBLISHED-TTL:P3D
REFRESH-INTERVAL:P3D
CALSCALE:GREGORIAN
BEGIN:VEVENT
DTSTART:20190305T000000Z
DTEND:20190305T013000Z
X-MICROSOFT-CDO-ALLDAYEVENT:FALSE
SUMMARY:Feed My Starving Children Meal Packing Event
DESCRIPTION:Please join us for a volunteer event at Feed My Starving Children on Monday\, March 4\, 6-7:30\, 401 93rd Avenue NW\, Coon Rapids. This is a family event   age 5 & up can participate in this fun experience! Pre-register for this free event @ https://www.fmsc.org/get-involved/volunteer under search groups enter "True North". Hosted by: Lisa Skordahl.
X-ALT-DESC;FMTTYPE=text/html:<span style="font-size:14px"><span style="font-family:verdana">Please join us for a volunteer event at <em>Feed My Starving Children</em> on Monday\, March 4\, 6-7:30\, <em><span style="color:#101820">401 93rd Avenue NW</span></em><em><span style="color:#101820">\, <em>Coon Rapids. </em></span></em>This is a family event &ndash\; age 5 &amp\; up can participate in this fun experience! Pre-register for this free event @ <a href="https://www.fmsc.org/get-involved/volunteer"><span style="color:#0563c1">https://www.fmsc.org/get-involved/volunteer</span></a> under search groups enter &ldquo\;True North&rdquo\;. Hosted by: Lisa Skordahl.&nbsp\;</span></span><br />\n&nbsp\;
LOCATION:
UID:e.380.188455
SEQUENCE:3
DTSTAMP:20260420T060529Z
URL:http://members.metronorthchamber.org/events/details/feed-my-starving-children-meal-packing-event-188455
END:VEVENT

END:VCALENDAR
