BEGIN:VCALENDAR
VERSION:2.0
PRODID:-//ChamberMaster//Event Calendar 2.0//EN
METHOD:PUBLISH
X-PUBLISHED-TTL:P3D
REFRESH-INTERVAL:P3D
CALSCALE:GREGORIAN
BEGIN:VEVENT
DTSTART:20190601T004500Z
DTEND:20190601T021500Z
X-MICROSOFT-CDO-ALLDAYEVENT:FALSE
SUMMARY:Fearless Improv Comedy
DESCRIPTION:Majestic Oaks Golf Club \n\npresents\n\nFEARLESS IMPROV COMEDY\n\nbrought to you by\n\nFearless Comedy Productions\n\n \n\nWHO: Public event open ages 16+\n\nplease bring valid id  \n\nWHEN:  Friday\, May 31\, 2019\n\nCOST:  $10 advance.  $12 at door\n\nDOORS OPEN: 7p\n\ncash bar and concessions available\n\nseating arranged theatre style\; arrive early to select favorite spot\n\nadvance seat resevations not available\n\nSHOW START:  7.45p\n\nshow promptly begins\n\nINTERMISSION:  8.30p\n\ncash bar and concessions available\n\nSHOW RESUMES:  8.45p\n\nSHOW CONCLUDES:  9.15p.  Bar and concessions closes 9.30p.\n\nOn-site restaurant kitchen open until 10p\; bar until 1a.
X-ALT-DESC;FMTTYPE=text/html:<p style="text-align:center"><span style="font-family:verdana\,geneva\,sans-serif">Majestic Oaks Golf Club&nbsp\;</span></p>\n\n<p style="text-align:center"><span style="font-family:verdana\,geneva\,sans-serif">presents</span></p>\n\n<p style="text-align:center"><span style="font-family:verdana\,geneva\,sans-serif\; font-size:24pt">FEARLESS IMPROV COMEDY</span></p>\n\n<p style="text-align:center"><span style="font-family:verdana\,geneva\,sans-serif">brought to you by</span></p>\n\n<p style="text-align:center"><span style="font-family:verdana\,geneva\,sans-serif\; font-size:12pt">Fearless Comedy Productions</span></p>\n\n<p style="text-align:center">&nbsp\;</p>\n\n<p style="text-align:center"><span style="font-family:verdana\,geneva\,sans-serif"><strong>WHO:</strong>&nbsp\;Public event open ages 16+</span></p>\n\n<p style="text-align:center"><span style="font-family:verdana\,geneva\,sans-serif">please bring valid id</span><span style="font-family:verdana\,geneva\,sans-serif">&nbsp\;&nbsp\;</span></p>\n\n<p style="text-align:center"><span style="font-family:verdana\,geneva\,sans-serif"><strong>WHEN:</strong>&nbsp\; Friday\, May 31\, 2019</span></p>\n\n<p style="text-align:center"><span style="font-family:verdana\,geneva\,sans-serif"><strong>COST:&nbsp\;</strong>&nbsp\;$10 advance.&nbsp\; $12 at door</span></p>\n\n<p style="text-align:center"><span style="font-family:verdana\,geneva\,sans-serif"><strong>DOORS OPEN</strong>: 7p</span></p>\n\n<p style="text-align:center"><span style="font-family:verdana\,geneva\,sans-serif">cash bar and concessions available</span></p>\n\n<p style="text-align:center"><span style="font-family:verdana\,geneva\,sans-serif">seating arranged theatre style\; arrive early to select favorite spot</span></p>\n\n<p style="text-align:center"><span style="font-family:verdana\,geneva\,sans-serif">advance seat resevations not available</span></p>\n\n<p style="text-align:center"><span style="font-family:verdana\,geneva\,sans-serif"><strong>SHOW START:</strong>&nbsp\; 7.45p</span></p>\n\n<p style="text-align:center"><span style="font-family:verdana\,geneva\,sans-serif">show promptly begins</span></p>\n\n<p style="text-align:center"><span style="font-family:verdana\,geneva\,sans-serif"><strong>INTERMISSION:</strong>&nbsp\; 8.30p</span></p>\n\n<p style="text-align:center"><span style="font-family:verdana\,geneva\,sans-serif">cash bar and concessions available</span></p>\n\n<p style="text-align:center"><span style="font-family:verdana\,geneva\,sans-serif"><strong>SHOW RESUMES:</strong>&nbsp\; 8.45p</span></p>\n\n<p style="text-align:center"><span style="font-family:verdana\,geneva\,sans-serif"><strong>SHOW CONCLUDES:</strong>&nbsp\; 9.15p.&nbsp\; Bar and concessions closes 9.30p.</span></p>\n\n<p style="text-align:center"><span style="font-family:verdana\,geneva\,sans-serif">On-site restaurant kitchen open until 10p\; bar until 1a.</span></p>\n
LOCATION:Majestic Oaks Golf Club 701 Bunker lake Blvd NE Ham Lake MN 55304
UID:e.380.189306
SEQUENCE:3
DTSTAMP:20260420T022301Z
URL:http://members.metronorthchamber.org/events/details/fearless-improv-comedy-189306
END:VEVENT

END:VCALENDAR
