BEGIN:VCALENDAR
VERSION:2.0
PRODID:-//ChamberMaster//Event Calendar 2.0//EN
METHOD:PUBLISH
X-PUBLISHED-TTL:P3D
REFRESH-INTERVAL:P3D
CALSCALE:GREGORIAN
BEGIN:VEVENT
DTSTART:20130917T140000Z
DTEND:20130917T170000Z
X-MICROSOFT-CDO-ALLDAYEVENT:FALSE
SUMMARY:FBI Cybersecurity Seminar
DESCRIPTION:Congresswoman Michele Bachmann will be hosting a cybersecurity seminar by agents from the FBI. The seminar is for business owners\, government officials\, and others looking to learn more about cyber crime and ways to best protect themselves and their business online.\n\n\n\nCybersecurity affects everyone. According to a recent Norton report\, the global cost of cyber crime is $110 billion annually and 18 adults become the victim of cyber crime every second around the world.
X-ALT-DESC;FMTTYPE=text/html:Congresswoman Michele Bachmann will be hosting a cybersecurity seminar by agents from the FBI. The seminar is for business owners\, government officials\, and others looking to learn more about cyber crime and ways to best protect themselves and their business online.<br />\n<br />\nCybersecurity affects everyone. According to a recent Norton report\, the global cost of cyber crime is $110 billion annually and 18 adults become the victim of cyber crime every second around the world.
LOCATION:Ramsey Government Center Alexander-Ramsey Room 7550 Sunwood Dr NW Ramsey\, MN 55303
UID:e.380.149452
SEQUENCE:3
DTSTAMP:20260424T161647Z
URL:http://members.metronorthchamber.org/events/details/fbi-cybersecurity-seminar-09-17-2013-149452
END:VEVENT

END:VCALENDAR
