BEGIN:VCALENDAR
VERSION:2.0
PRODID:-//ChamberMaster//Event Calendar 2.0//EN
METHOD:PUBLISH
X-PUBLISHED-TTL:P3D
REFRESH-INTERVAL:P3D
CALSCALE:GREGORIAN
BEGIN:VEVENT
DTSTART:20181130T230000Z
DTEND:20181201T010000Z
X-MICROSOFT-CDO-ALLDAYEVENT:FALSE
SUMMARY:Family First
DESCRIPTION:Visits and photos with Santa (digital print and rights to print in plenty of time for Christmas cards\, face painting\, chair massages\, door prizes\, treats\, games\, arts and crafts\, and new this year\, TACOS from Acapulco! \n\n\n\nSend email with number of people attending to crystal.quarberg@n2pub.com so that we can ensure enough food and fun for everyone!
X-ALT-DESC;FMTTYPE=text/html:<span style="color: rgb(29\, 33\, 41)\; font-family: Helvetica\, Arial\, sans-serif\; font-size: 14px\; background-color: rgb(255\, 255\, 255)\;">Visits and photos with Santa (digital print and rights to print in plenty of time for Christmas cards\, face painting\, chair massages\, door prizes\, treats\, games\, arts and crafts\, and new this year\, TACOS from Acapulco!&nbsp\;</span><br style="color: rgb(29\, 33\, 41)\; font-family: Helvetica\, Arial\, sans-serif\; font-size: 14px\; background-color: rgb(255\, 255\, 255)\;" />\n<br style="color: rgb(29\, 33\, 41)\; font-family: Helvetica\, Arial\, sans-serif\; font-size: 14px\; background-color: rgb(255\, 255\, 255)\;" />\n<span style="color: rgb(29\, 33\, 41)\; font-family: Helvetica\, Arial\, sans-serif\; font-size: 14px\; background-color: rgb(255\, 255\, 255)\;">Send email with number of people attending to crystal.quarberg@n2pub.com so that we can ensure enough food and fun for everyone!</span>
LOCATION:Family First Chiropractic 11901 and 11905 Central Ave NE (Hwy 65) in Blaine
UID:e.380.187460
SEQUENCE:3
DTSTAMP:20260420T121107Z
URL:http://members.metronorthchamber.org/events/details/family-first-187460
END:VEVENT

END:VCALENDAR
