BEGIN:VCALENDAR
VERSION:2.0
PRODID:-//ChamberMaster//Event Calendar 2.0//EN
METHOD:PUBLISH
X-PUBLISHED-TTL:P3D
REFRESH-INTERVAL:P3D
CALSCALE:GREGORIAN
BEGIN:VEVENT
DTSTART:20180127T220000Z
DTEND:20180128T003000Z
X-MICROSOFT-CDO-ALLDAYEVENT:FALSE
SUMMARY:FAMILY BUILD - MAKE A BLACK PIPE TABLE
DESCRIPTION:This table is our larger of the two tables. Built for 3/4 inch black pipe fittings -\n\nyour finished project will be approximately 18 inches wide x 48 inches long x 32.25 inches tall.\n\nYou can choose to stain the table and/or add some basic lines (stencils) for no additional fee.
X-ALT-DESC;FMTTYPE=text/html:<strong><span style="color: rgba(66\, 66\, 66\, 0.65)\; font-family: ff-meta-serif-web-pro\; font-size: 12px\; letter-spacing: 0.24px\; background-color: rgb(254\, 251\, 240)\;">This table is our larger of the two tables. Built for 3/4 inch black pipe fittings -</span><br style="word-wrap: break-word\; color: rgba(66\, 66\, 66\, 0.65)\; font-family: ff-meta-serif-web-pro\; font-size: 12px\; letter-spacing: 0.24px\; background-color: rgb(254\, 251\, 240)\;" />\n<span style="color: rgba(66\, 66\, 66\, 0.65)\; font-family: ff-meta-serif-web-pro\; font-size: 12px\; letter-spacing: 0.24px\; background-color: rgb(254\, 251\, 240)\;">your finished project will be approximately 18 inches wide x 48 inches long x 32.25 inches tall.</span><br style="word-wrap: break-word\; color: rgba(66\, 66\, 66\, 0.65)\; font-family: ff-meta-serif-web-pro\; font-size: 12px\; letter-spacing: 0.24px\; background-color: rgb(254\, 251\, 240)\;" />\n<span style="color: rgba(66\, 66\, 66\, 0.65)\; font-family: ff-meta-serif-web-pro\; font-size: 12px\; letter-spacing: 0.24px\; background-color: rgb(254\, 251\, 240)\;">You can choose to stain the table and/or add some basic lines (stencils) for no additional fee.</span></strong>
LOCATION:Boardwalk DIY Studio 1574 154th Avenue Northwest\, #107B Andover\, MN
UID:e.380.180172
SEQUENCE:3
DTSTAMP:20260421T034435Z
URL:http://members.metronorthchamber.org/events/details/family-build-make-a-black-pipe-table-180172
END:VEVENT

END:VCALENDAR
