BEGIN:VCALENDAR
VERSION:2.0
PRODID:-//ChamberMaster//Event Calendar 2.0//EN
METHOD:PUBLISH
X-PUBLISHED-TTL:P3D
REFRESH-INTERVAL:P3D
CALSCALE:GREGORIAN
BEGIN:VEVENT
DTSTART:20130707T180000Z
DTEND:20130707T210000Z
X-MICROSOFT-CDO-ALLDAYEVENT:FALSE
SUMMARY:Family Art Sunday at Banfill-Locke Center for the Arts
DESCRIPTION:Join us for an afternoon of art exploration.  Embark on a treasure hunt in the galleries\, learn drawing tips from Children's Book Illustrator Guild artists\, enjoy free snacks. Free.  Drop in with the whole family.
X-ALT-DESC;FMTTYPE=text/html:Join us for an afternoon of art exploration. &nbsp\;Embark on a treasure hunt in the galleries\, learn drawing tips from Children&#39\;s Book Illustrator Guild artists\, enjoy free snacks. Free. &nbsp\;Drop in with the whole family. &nbsp\;
LOCATION:Banfill-Locke Center for the Arts\, 6666 East River Road\, Fridley\, MN 55432
UID:e.380.149110
SEQUENCE:3
DTSTAMP:20260424T193320Z
URL:http://members.metronorthchamber.org/events/details/family-art-sunday-at-banfill-locke-center-for-the-arts-07-07-2013-149110
END:VEVENT

END:VCALENDAR
