BEGIN:VCALENDAR
VERSION:2.0
PRODID:-//ChamberMaster//Event Calendar 2.0//EN
METHOD:PUBLISH
X-PUBLISHED-TTL:P3D
REFRESH-INTERVAL:P3D
CALSCALE:GREGORIAN
BEGIN:VEVENT
DTSTART:20151010T230000Z
DTEND:20151011T040000Z
X-MICROSOFT-CDO-ALLDAYEVENT:FALSE
SUMMARY:Fall Shout Out by the Anoka-Hennepin Educational Foundation
DESCRIPTION:Is there a more entertaining way to support Anoka-Hennepin's students and programs than with an evening of excitement featuring the energy of dueling pianos?\n\nThe Anoka-Hennepin Educational Foundation (AHEF) didn't think so either.\n\n\n\nLovers of music\, food trucks and good times\, who also love supporting Anoka-Hennepin's schools are invited to the AHEF's inaugural Fall Shout Out\, set for 6 to 11 p.m.\, Saturday\, Oct. 10. The event will be held at the unique Golden Wings Flying Museum\, located at the Anoka County-Blaine Airport\, 8891 Airport Road NE\, in Blaine.\n\n\n\nTickets are just $30 per person\, and registration is now open. Space is limited. Tickets do not include food or beverages.\n\n\n\n[Rock it man] The dueling pianos and musicians\, from Rock It Man Entertainment\, are sure to provide an exciting\, high-energy and request-driven show with artists who can play just about any song from any era   from oldies to current top 40 hits to everything in between.\n\n\n\nFood trucks will also be on site\, including Lulu's Street Food and Wha' Jamaican\, to provide guests with a unique and interesting dinner experience.\n\n\n\nAnd if all that isn't interesting enough\, it's all held at the Golden Wings Flying Museum\, where guests can view the largest private collection of aircraft from the 1920s and 30s   America's golden age of aviation.
X-ALT-DESC;FMTTYPE=text/html:<br />\nIs there a more entertaining way to support Anoka-Hennepin&rsquo\;s students and programs than with an evening of excitement featuring the energy of dueling pianos?<br />\nThe Anoka-Hennepin Educational Foundation (AHEF) didn&rsquo\;t think so either.<br />\n<br />\nLovers of music\, food trucks and good times\, who also love supporting Anoka-Hennepin&rsquo\;s schools are invited to the AHEF&rsquo\;s inaugural Fall Shout Out\, set for 6 to 11 p.m.\, Saturday\, Oct. 10. The event will be held at the unique Golden Wings Flying Museum\, located at the Anoka County-Blaine Airport\, 8891 Airport Road NE\, in Blaine.<br />\n<br />\nTickets are just $30 per person\, and&nbsp\;registration is now open. Space is limited. Tickets do not include food or beverages.<br />\n<br />\n[Rock it man] The dueling pianos and musicians\, from Rock It Man Entertainment\,&nbsp\;are sure to provide an exciting\, high-energy and request-driven show with artists who can play just about any song from any era &mdash\; from oldies to current top 40 hits to everything in between.<br />\n<br />\nFood trucks will also be on site\, including Lulu&rsquo\;s Street Food and Wha&rsquo\; Jamaican\, to provide guests with a unique and interesting dinner experience.<br />\n<br />\nAnd if all that isn&rsquo\;t interesting enough\, it&rsquo\;s all held at the Golden Wings Flying Museum\, where guests can view the largest private collection of aircraft from the 1920s and 30s &mdash\; America&rsquo\;s golden age of aviation.
LOCATION:Golden Wings Flying Museum\, Anoka County-Blaine Airport\, 8891 Airport Road NE\, in Blaine.
UID:e.380.159620
SEQUENCE:3
DTSTAMP:20260422T234726Z
URL:http://members.metronorthchamber.org/events/details/fall-shout-out-by-the-anoka-hennepin-educational-foundation-10-10-2015-159620
END:VEVENT

END:VCALENDAR
