BEGIN:VCALENDAR
VERSION:2.0
PRODID:-//ChamberMaster//Event Calendar 2.0//EN
METHOD:PUBLISH
X-PUBLISHED-TTL:P3D
REFRESH-INTERVAL:P3D
CALSCALE:GREGORIAN
BEGIN:VEVENT
DTSTART:20160316T123000Z
DTEND:20160316T140000Z
X-MICROSOFT-CDO-ALLDAYEVENT:FALSE
SUMMARY:Fall Prevention for Facilities
DESCRIPTION:FREE CEU  OPPORTUNITY\n\nPlease join us at Autumn Glen Senior Living for Fall  Prevention for Facilities\, presented by Guardian Angels Elim Home Care & Hospice.  A light breakfast will be served.
X-ALT-DESC;FMTTYPE=text/html:&nbsp\;FREE CEU &nbsp\;OPPORTUNITY<br />\nPlease join us at Autumn Glen Senior Living for Fall&nbsp\; Prevention for Facilities\, presented by Guardian Angels&dagger\;Elim Home Care &amp\; Hospice.&nbsp\; A light breakfast will be served.<br />\n<br />\n&nbsp\;
LOCATION:3715 Coon Rapids Blvd NW
UID:e.380.165693
SEQUENCE:3
DTSTAMP:20260422T163019Z
URL:http://members.metronorthchamber.org/events/details/fall-prevention-for-facilities-03-16-2016-165693
END:VEVENT

END:VCALENDAR
