BEGIN:VCALENDAR
VERSION:2.0
PRODID:-//ChamberMaster//Event Calendar 2.0//EN
METHOD:PUBLISH
X-PUBLISHED-TTL:P3D
REFRESH-INTERVAL:P3D
CALSCALE:GREGORIAN
BEGIN:VEVENT
DTSTART:20180304T160000Z
DTEND:20180304T190000Z
X-MICROSOFT-CDO-ALLDAYEVENT:FALSE
SUMMARY:Fairy Tails Grooming Dog Nail Trim for Charity
DESCRIPTION:Come on out to Fairy Tails Grooming for a good old fashion Dog nail trimming. After having such a successful first event Jennifer and her staff are graciously hosting another nail trimming event at their business from 10am-1pm on Sunday March 4th. Being that the Super Bowl is over\, we're hoping more of you will come out and bring your pooches. Nail Trimmings are by donation and a cash donation is requested.
X-ALT-DESC;FMTTYPE=text/html:<span style="color: rgb(29\, 33\, 41)\; font-family: Helvetica\, Arial\, sans-serif\; font-size: 14px\; background-color: rgb(255\, 255\, 255)\;">Come on out to Fairy Tails Grooming for a good old fashion Dog nail trimming. After having such a successful first event Jennifer and her staff are graciously hosting another nail trimming event at their business from 10am-1pm on Sunday March 4th. Being that the Super Bowl is over\, we&#39\;re hoping more of you will come out and bring your pooches. Nail Trimmings are by donation and a cash donation is requested.</span>
LOCATION:
UID:e.380.180236
SEQUENCE:3
DTSTAMP:20260421T003647Z
URL:http://members.metronorthchamber.org/events/details/fairy-tails-grooming-dog-nail-trim-for-charity-180236
END:VEVENT

END:VCALENDAR
