BEGIN:VCALENDAR
VERSION:2.0
PRODID:-//ChamberMaster//Event Calendar 2.0//EN
METHOD:PUBLISH
X-PUBLISHED-TTL:P3D
REFRESH-INTERVAL:P3D
CALSCALE:GREGORIAN
BEGIN:VEVENT
DTSTART:20130220T133000Z
DTEND:20130220T160000Z
X-MICROSOFT-CDO-ALLDAYEVENT:FALSE
SUMMARY:Extreme Business Fitness - Is Your Business a POWER Player?
DESCRIPTION:Tough love goes a long way.  Start demanding more from your business! \n\n\n\nAt the end of the day this is all about business fitness where it counts --- the pocketbook.  Wherever you are in your business\, the need to step back and look at the big picture will help give direction needed for the upcoming year.  Your business is alive and breathing.  Give it proper attention so you can be confident you'll finish the year strong! \n\n\n\n       Step by Step\, Simple\, and Effective strategies for setting goals \n\n        Identify the Action Steps to make those goals a reality \n\n        Learn to establish a new status quo  \n\n        Know the difference between Vision and Delusion
X-ALT-DESC;FMTTYPE=text/html:<span style="font-size:18px\;"><strong><em><span style="color:black\;"><span style="font-family:arial narrow\,sans-serif\;">Tough love goes a long way.&nbsp\; Start demanding more from your business!&nbsp\;</span></span></em></strong><br />\n<br />\n<span style="font-size:16px\;"><strong><span style="color:rgb(127\,127\,127)\;"><span style="font-family:arial narrow\,sans-serif\;">At the end of the day this is all about </span></span><span style="color:rgb(64\,64\,64)\;"><span style="font-family:copperplate gothic bold\,sans-serif\;">business fitness</span></span><span style="color:rgb(127\,127\,127)\;"><span style="font-family:arial narrow\,sans-serif\;"> where it counts --- </span></span></strong><strong><em><span style="color:rgb(64\,64\,64)\;"><span style="font-family:copperplate gothic bold\,sans-serif\;">the pocketbook</span></span></em></strong><strong><span style="color:rgb(127\,127\,127)\;"><span style="font-family:arial narrow\,sans-serif\;">.&nbsp\; Wherever you are in your business\, the need to </span></span></strong><strong><span style="color:rgb(64\,64\,64)\;"><span style="font-family:copperplate gothic bold\,sans-serif\;">step back</span></span></strong><strong><span style="color:rgb(127\,127\,127)\;"><span style="font-family:arial narrow\,sans-serif\;"> and look at the </span></span></strong><strong><span style="color:rgb(64\,64\,64)\;"><span style="font-family:copperplate gothic bold\,sans-serif\;">big picture</span></span></strong><strong><span style="color:rgb(127\,127\,127)\;"><span style="font-family:arial narrow\,sans-serif\;"> will help give </span></span></strong><strong><span style="color:rgb(64\,64\,64)\;"><span style="font-family:copperplate gothic bold\,sans-serif\;">direction</span></span></strong> <strong><span style="color:rgb(127\,127\,127)\;"><span style="font-family:arial narrow\,sans-serif\;">needed for the upcoming year.&nbsp\; </span></span></strong><strong><span style="color:#7f7f7f\;"><span style="font-family:arial narrow\,sans-serif\;">Your business is</span></span></strong> <strong><span style="color:#404040\;"><span style="font-family:copperplate gothic bold\,sans-serif\;">alive</span></span></strong> <strong><span style="color:#7f7f7f\;"><span style="font-family:arial narrow\,sans-serif\;">and</span></span></strong> <strong><span style="color:#404040\;"><span style="font-family:copperplate gothic bold\,sans-serif\;">breathing. </span></span></strong><strong>&nbsp\;<span style="color:#7f7f7f\;">G</span></strong><strong><span style="color:#7f7f7f\;"><span style="font-family:arial narrow\,sans-serif\;">ive it proper </span></span></strong><strong><span style="color:#404040\;"><span style="font-family:copperplate gothic bold\,sans-serif\;">attention</span></span></strong><strong><span style="color:#7f7f7f\;"><span style="font-family:arial narrow\,sans-serif\;"> so you can be </span></span></strong><strong><span style="color:#404040\;"><span style="font-family:copperplate gothic bold\,sans-serif\;">confident </span></span></strong><strong><span style="color:#7f7f7f\;"><span style="font-family:arial narrow\,sans-serif\;">you&rsquo\;ll finish the year </span></span></strong><strong><span style="color:#404040\;"><span style="font-family:copperplate gothic bold\,sans-serif\;">strong</span></span></strong><strong><span style="color:#7f7f7f\;"><span style="font-family:arial narrow\,sans-serif\;">!</span></span></strong>&nbsp\;</span><br />\n<br />\n<span style="color:#404040\;"><span style="font-family:symbol\;">&middot\; &nbsp\; &nbsp\; &nbsp\;</span><span style="font-size:16px\;"><span style="font-family:arial narrow\,sans-serif\;">Step by Step\, Simple\, and Effective strategies for setting goals&hellip\;</span></span></span><br />\n<span style="font-size:16px\;"><span style="color:#404040\;"><span style="font-family:symbol\;">&middot\;&nbsp\;&nbsp\;&nbsp\;&nbsp\;&nbsp\;&nbsp\; </span></span><span style="color:#404040\;"><span style="font-family:arial narrow\,sans-serif\;">Identify the Action Steps to make those goals a reality&hellip\;</span></span><br />\n<span style="color:#404040\;"><span style="font-family:symbol\;">&middot\;&nbsp\;&nbsp\;&nbsp\;&nbsp\;&nbsp\;&nbsp\; </span></span><span style="color:#404040\;"><span style="font-family:arial narrow\,sans-serif\;">Learn to establish a new status quo&hellip\; </span></span><br />\n<span style="color:#404040\;"><span style="font-family:symbol\;">&middot\;&nbsp\;&nbsp\;&nbsp\;&nbsp\;&nbsp\;&nbsp\; </span><span style="font-family:arial narrow\,sans-serif\;">Know the difference between Vision and Delusion&hellip\;</span></span></span></span><br />\n<br />\n<br />\n
LOCATION:6575 141st Ave NW\, Ste.100\, Ramsey\, MN 55303
UID:e.380.148601
SEQUENCE:3
DTSTAMP:20260425T035045Z
URL:http://members.metronorthchamber.org/events/details/extreme-business-fitness-is-your-business-a-power-player-02-20-2013-148601
END:VEVENT

END:VCALENDAR
