BEGIN:VCALENDAR
VERSION:2.0
PRODID:-//ChamberMaster//Event Calendar 2.0//EN
METHOD:PUBLISH
X-PUBLISHED-TTL:P3D
REFRESH-INTERVAL:P3D
CALSCALE:GREGORIAN
BEGIN:VEVENT
DTSTART:20150408T163000Z
DTEND:20150408T180000Z
X-MICROSOFT-CDO-ALLDAYEVENT:FALSE
SUMMARY:Export Roundtable
DESCRIPTION:We are pleased to invite you to this Metro Export Roundtable being held in Fridley on April 8th. Learn how to export or expand your current exporting activities via this training seminar in collaboration with the Minnesota Trade Office and the Midwest Global Trade Association.\n\nKeynote Speaker: Frank Baeumler\, VP of Business Development\, Mate Precision Tooling\n\nPANEL\n\n  Midwest Global Trade Association   Adam Redline\n\n  Minnesota Trade Office (state)   Sarah Walbert\n\n  U.S. Commercial Service (federal)   Andrea Staebler Berton\n\n\n\nCollaborating Partner Organizations:\n\n  Minnesota Trade Office\n\n  Midwest Global Trade Association\n\n  American-Israel Chamber of Commerce\n\n  Edina Chamber of Commerce\n\n  City of Fridley\n\n  Anoka Area Chamber of Commerce\n\n  Twin Cities North Chamber of Commerce\n\n  Elk River Area Chamber of Commerce\n\n  I-94 West Chamber of Commerce\n\n  Books for Africa\n\n  Twin West Chamber of Commerce
X-ALT-DESC;FMTTYPE=text/html:<span ms="" style="line-height: normal\; font-family: Arial\, helvetica\,\;">We are&nbsp\;pleased to invite you to&nbsp\;this</span><strong ms="" style="line-height: normal\; font-family: Arial\, helvetica\,\;">&nbsp\;Metro Export Roundtable&nbsp\;</strong><span ms="" style="line-height: normal\; font-family: Arial\, helvetica\,\;">being held in Fridley on April 8th. Learn how to export or expand your current exporting activities via this training seminar in collaboration with the Minnesota Trade Office and the Midwest Global Trade Association.</span>\n\n<p class="middlep"><strong>Keynote Speaker:</strong> Frank Baeumler\, VP of Business Development\, Mate Precision Tooling</p>\n\n<p class="middlep"><strong>PANEL</strong><br />\n&bull\; Midwest Global Trade Association &ndash\; Adam Redline<br />\n&bull\; Minnesota Trade Office (state) &ndash\; Sarah Walbert<br />\n&bull\; U.S. Commercial Service (federal) &ndash\; Andrea Staebler Berton<br />\n<br />\n<span ms="" style="line-height: normal\; font-family: Arial\, helvetica\,\;"><u><strong>Collaborating Partner Organizations:</strong></u><br />\n&bull\;&nbsp\;Minnesota Trade Office<br />\n&bull\;&nbsp\;Midwest Global Trade Association<br />\n&bull\;&nbsp\;American-Israel Chamber of Commerce<br />\n&bull\;&nbsp\;Edina Chamber of Commerce<br />\n&bull\;&nbsp\;City of Fridley<br />\n&bull\;&nbsp\;Anoka Area Chamber of Commerce<br />\n&bull\;&nbsp\;Twin Cities North Chamber of Commerce<br />\n&bull\;&nbsp\;Elk River Area Chamber of Commerce<br />\n&bull\;&nbsp\;I-94 West Chamber of Commerce<br />\n&bull\;&nbsp\;Books for Africa<br />\n&bull\;&nbsp\;Twin West Chamber of Commerce</span></p>\n
LOCATION:Crooner's Lounge (formerly the Shorewood) - 6161 Highway 65 on Moore Lake\, Fridley (Central Avenue exit off I-694)
UID:e.380.157069
SEQUENCE:3
DTSTAMP:20260423T094929Z
URL:http://members.metronorthchamber.org/events/details/export-roundtable-04-08-2015-157069
END:VEVENT

END:VCALENDAR
