BEGIN:VCALENDAR
VERSION:2.0
PRODID:-//ChamberMaster//Event Calendar 2.0//EN
METHOD:PUBLISH
X-PUBLISHED-TTL:P3D
REFRESH-INTERVAL:P3D
CALSCALE:GREGORIAN
BEGIN:VEVENT
DTSTART:20131203T141500Z
DTEND:20131203T151500Z
X-MICROSOFT-CDO-ALLDAYEVENT:FALSE
SUMMARY:Executive Committee Mtg
DESCRIPTION:
X-ALT-DESC;FMTTYPE=text/html:
LOCATION:
UID:e.380.149893
SEQUENCE:3
DTSTAMP:20260424T110746Z
URL:http://members.metronorthchamber.org/events/details/executive-committee-mtg-12-03-2013-149893
END:VEVENT

END:VCALENDAR
