BEGIN:VCALENDAR
VERSION:2.0
PRODID:-//ChamberMaster//Event Calendar 2.0//EN
METHOD:PUBLISH
X-PUBLISHED-TTL:P3D
REFRESH-INTERVAL:P3D
CALSCALE:GREGORIAN
BEGIN:VEVENT
DTSTART:20151103T173000Z
DTEND:20151103T183000Z
X-MICROSOFT-CDO-ALLDAYEVENT:FALSE
SUMMARY:Executive Committee
DESCRIPTION:
X-ALT-DESC;FMTTYPE=text/html:
LOCATION:
UID:e.380.159594
SEQUENCE:3
DTSTAMP:20260422T221602Z
URL:http://members.metronorthchamber.org/events/details/executive-committee-11-03-2015-159594
END:VEVENT

END:VCALENDAR
