BEGIN:VCALENDAR
VERSION:2.0
PRODID:-//ChamberMaster//Event Calendar 2.0//EN
METHOD:PUBLISH
X-PUBLISHED-TTL:P3D
REFRESH-INTERVAL:P3D
CALSCALE:GREGORIAN
BEGIN:VEVENT
DTSTART:20161101T200000Z
DTEND:20161101T210000Z
X-MICROSOFT-CDO-ALLDAYEVENT:FALSE
SUMMARY:Executive Committee
DESCRIPTION:
X-ALT-DESC;FMTTYPE=text/html:
LOCATION:
UID:e.380.163117
SEQUENCE:3
DTSTAMP:20260422T014522Z
URL:http://members.metronorthchamber.org/events/details/executive-committee-11-01-2016-163117
END:VEVENT

END:VCALENDAR
