BEGIN:VCALENDAR
VERSION:2.0
PRODID:-//ChamberMaster//Event Calendar 2.0//EN
METHOD:PUBLISH
X-PUBLISHED-TTL:P3D
REFRESH-INTERVAL:P3D
CALSCALE:GREGORIAN
BEGIN:VEVENT
DTSTART:20181010T124500Z
DTEND:20181010T133000Z
X-MICROSOFT-CDO-ALLDAYEVENT:FALSE
SUMMARY:Executive Committee
DESCRIPTION:
X-ALT-DESC;FMTTYPE=text/html:
LOCATION:
UID:e.380.163140
SEQUENCE:3
DTSTAMP:20260420T135132Z
URL:http://members.metronorthchamber.org/events/details/executive-committee-10-02-2018-163140
END:VEVENT

END:VCALENDAR
