BEGIN:VCALENDAR
VERSION:2.0
PRODID:-//ChamberMaster//Event Calendar 2.0//EN
METHOD:PUBLISH
X-PUBLISHED-TTL:P3D
REFRESH-INTERVAL:P3D
CALSCALE:GREGORIAN
BEGIN:VEVENT
DTSTART:20140506T131500Z
DTEND:20140506T141500Z
X-MICROSOFT-CDO-ALLDAYEVENT:FALSE
SUMMARY:Executive Committee
DESCRIPTION:
X-ALT-DESC;FMTTYPE=text/html:
LOCATION:Chamber Office
UID:e.380.150080
SEQUENCE:3
DTSTAMP:20260424T030216Z
URL:http://members.metronorthchamber.org/events/details/executive-committee-05-06-2014-150080
END:VEVENT

END:VCALENDAR
