BEGIN:VCALENDAR
VERSION:2.0
PRODID:-//ChamberMaster//Event Calendar 2.0//EN
METHOD:PUBLISH
X-PUBLISHED-TTL:P3D
REFRESH-INTERVAL:P3D
CALSCALE:GREGORIAN
BEGIN:VEVENT
DTSTART:20170502T143000Z
DTEND:20170502T153000Z
X-MICROSOFT-CDO-ALLDAYEVENT:FALSE
SUMMARY:Executive Committee
DESCRIPTION:
X-ALT-DESC;FMTTYPE=text/html:
LOCATION:
UID:e.380.163123
SEQUENCE:3
DTSTAMP:20260421T170102Z
URL:http://members.metronorthchamber.org/events/details/executive-committee-05-02-2017-163123
END:VEVENT

END:VCALENDAR
