BEGIN:VCALENDAR
VERSION:2.0
PRODID:-//ChamberMaster//Event Calendar 2.0//EN
METHOD:PUBLISH
X-PUBLISHED-TTL:P3D
REFRESH-INTERVAL:P3D
CALSCALE:GREGORIAN
BEGIN:VEVENT
DTSTART:20111107T141500Z
DTEND:20111107T151500Z
X-MICROSOFT-CDO-ALLDAYEVENT:FALSE
SUMMARY:Excellence in Business Awards Task Force
DESCRIPTION:
X-ALT-DESC;FMTTYPE=text/html:
LOCATION:MetroNorth Chamber 9380 Central Ave #320 Blaine
UID:e.380.142846
SEQUENCE:3
DTSTAMP:20260426T032944Z
URL:http://members.metronorthchamber.org/events/details/excellence-in-business-awards-task-force-11-07-2011-142846
END:VEVENT

END:VCALENDAR
