BEGIN:VCALENDAR
VERSION:2.0
PRODID:-//ChamberMaster//Event Calendar 2.0//EN
METHOD:PUBLISH
X-PUBLISHED-TTL:P3D
REFRESH-INTERVAL:P3D
CALSCALE:GREGORIAN
BEGIN:VEVENT
DTSTART:20170315T163000Z
DTEND:20170315T181500Z
X-MICROSOFT-CDO-ALLDAYEVENT:FALSE
SUMMARY:Excellence in Business Awards
DESCRIPTION:The MetroNorth Chamber of Commerce annually recognizes exemplary chamber businesses for their performance\, innovation and community commitment. On March 15\, we will celebrate your 2016 Excellence in Business Awards winners in the micro\, small\, business and not-for-profit categories. This is a prestigious honor which showcases the best of the best of our membership. Our luncheon keynote will be Chuck Runyon\, CEO of Anytime Fitness. In 2002\, Chuck Runyon revolutionized the fitness industry when he and a co-founder started smaller\, neighborhood gyms featuring convenience\, affordability\, quality equipment and surprisingly personable service\n\nin friendly\, non-intimidating facilities.\n\n\n\nSelf apply\n\nNominate another business
X-ALT-DESC;FMTTYPE=text/html:<span style="color:#000000\;">The MetroNorth Chamber of Commerce annually recognizes exemplary chamber businesses for their performance\, innovation and community commitment. On March 15\, we will celebrate your 2016 Excellence in Business Awards winners in the micro\, small\, business and not-for-profit categories. This is a prestigious&nbsp\;honor which showcases the best of the best of our membership. Our luncheon keynote will be Chuck Runyon\, CEO of Anytime Fitness. In 2002\, Chuck Runyon revolutionized the fitness industry when he and a co-founder started smaller\, neighborhood gyms featuring convenience\, affordability\, quality equipment and surprisingly personable service<br />\nin friendly\, non-intimidating facilities.<br />\n<br />\n<a href="http://files.constantcontact.com/f6fda6e7001/2b5fbacd-9dfe-4dd0-84f8-8c4749fbd7e8.doc?ver=1485186905000">Self apply</a><br />\n<a href="http://files.constantcontact.com/f6fda6e7001/357df65a-5f21-4174-8d06-ff0fbd4a1a77.doc?ver=1485187019000">Nominate another business</a></span>
LOCATION:TPC Twin Cities 11444 Tournament Players Parkway Blaine 55449
UID:e.380.171464
SEQUENCE:3
DTSTAMP:20260421T184614Z
URL:http://members.metronorthchamber.org/events/details/excellence-in-business-awards-171464
END:VEVENT

END:VCALENDAR
