BEGIN:VCALENDAR
VERSION:2.0
PRODID:-//ChamberMaster//Event Calendar 2.0//EN
METHOD:PUBLISH
X-PUBLISHED-TTL:P3D
REFRESH-INTERVAL:P3D
CALSCALE:GREGORIAN
BEGIN:VEVENT
DTSTART:20160311T173000Z
DTEND:20160311T191500Z
X-MICROSOFT-CDO-ALLDAYEVENT:FALSE
SUMMARY:Excellence in Business Awards
DESCRIPTION:The MetroNorth Chamber of Commerce annually recognizes exemplary chamber businesses for their performance\, innovation and community commitment. This year\, our keynote speaker is Robert W. (Rob) Hubbard\, President/CEO of Hubbard Television Group and Vice President of Hubbard Broadcasting\, Inc. Hear the amazing success story of this Minnesota family business while honoring the EBA winners over lunch at the TPC.
X-ALT-DESC;FMTTYPE=text/html:<span style="font-size:14px\;"><span style="font-family:arial\;"><span style="color:#000000\;">The MetroNorth Chamber of Commerce annually recognizes exemplary chamber businesses for their performance\, innovation and community commitment. This year\, our&nbsp\;keynote speaker is Robert W. (Rob) Hubbard\, President/CEO of Hubbard Television Group and Vice President of Hubbard Broadcasting\, Inc. Hear the amazing success story of this Minnesota family business while honoring the EBA winners over lunch at the TPC.&nbsp\;</span></span></span>
LOCATION:TPC Twin Cities 11444 Tournament Players Parkway Blaine 55449
UID:e.380.163101
SEQUENCE:3
DTSTAMP:20260422T163608Z
URL:http://members.metronorthchamber.org/events/details/excellence-in-business-awards-03-11-2016-163101
END:VEVENT

END:VCALENDAR
