BEGIN:VCALENDAR
VERSION:2.0
PRODID:-//ChamberMaster//Event Calendar 2.0//EN
METHOD:PUBLISH
X-PUBLISHED-TTL:P3D
REFRESH-INTERVAL:P3D
CALSCALE:GREGORIAN
BEGIN:VEVENT
DTSTART:20150213T173000Z
DTEND:20150213T191500Z
X-MICROSOFT-CDO-ALLDAYEVENT:FALSE
SUMMARY:Excellence in Business Awards
DESCRIPTION:The MetroNorth Chamber of Commerce annually recognizes exemplary chamber businesses for their performance\, innovation and community commitment. Michael Keller\, CEO of Pearson's Candy\, will give the keynote .
X-ALT-DESC;FMTTYPE=text/html:<span style="language: en-US\;">The MetroNorth Chamber of Commerce annually recognizes exemplary chamber businesses for their performance\, innovation and community commitment.&nbsp\;Michael Keller\, CEO of Pearson&#39\;s Candy\, will give&nbsp\;the keynote&nbsp\;.</span><br />\n&nbsp\;<br />\n&nbsp\;
LOCATION:Majestic Oaks Golf Club (Fireside Room) 701 Bunker Lake Blvd. Ham Lake\, MN 55304
UID:e.380.152549
SEQUENCE:3
DTSTAMP:20260423T130722Z
URL:http://members.metronorthchamber.org/events/details/excellence-in-business-awards-02-13-2015-152549
END:VEVENT

END:VCALENDAR
