BEGIN:VCALENDAR
VERSION:2.0
PRODID:-//ChamberMaster//Event Calendar 2.0//EN
METHOD:PUBLISH
X-PUBLISHED-TTL:P3D
REFRESH-INTERVAL:P3D
CALSCALE:GREGORIAN
BEGIN:VEVENT
DTSTART:20120619T163000Z
DTEND:20120619T173000Z
X-MICROSOFT-CDO-ALLDAYEVENT:FALSE
SUMMARY:Events Committee
DESCRIPTION:Like to plan events & find fun ways to promote them? Our EVENTS COMMITTEE is your ticket for a good time!
X-ALT-DESC;FMTTYPE=text/html:<span style="font-family:tahoma\;"><span style="font-size:11px\;"><span style="color:#000080\;">Like to plan events &amp\; find fun ways to promote them? Our EVENTS COMMITTEE is your ticket for a good time!</span></span></span>
LOCATION:TBD
UID:e.380.144856
SEQUENCE:3
DTSTAMP:20260425T161535Z
URL:http://members.metronorthchamber.org/events/details/events-committee-06-19-2012-144856
END:VEVENT

END:VCALENDAR
