BEGIN:VCALENDAR
VERSION:2.0
PRODID:-//ChamberMaster//Event Calendar 2.0//EN
METHOD:PUBLISH
X-PUBLISHED-TTL:P3D
REFRESH-INTERVAL:P3D
CALSCALE:GREGORIAN
BEGIN:VEVENT
DTSTART:20120522T163000Z
DTEND:20120522T173000Z
X-MICROSOFT-CDO-ALLDAYEVENT:FALSE
SUMMARY:Events Committee
DESCRIPTION:Like to plan fun events & find creative ways to promote them? Our EVENTS COMMITTEE is your ticket for a good time!
X-ALT-DESC;FMTTYPE=text/html:<span style="color:#000080\;"><span style="font-size: 11px\;"><span style="font-family: tahoma\;">Like to plan fun events &amp\; find creative ways to promote them? Our EVENTS COMMITTEE is your ticket for a good time!</span></span></span>
LOCATION:Dixie Blue Bar-B-Que 2330 Cloud Dr. #101 Blaine\, MN 55449
UID:e.380.144705
SEQUENCE:3
DTSTAMP:20260425T175915Z
URL:http://members.metronorthchamber.org/events/details/events-committee-05-22-2012-144705
END:VEVENT

END:VCALENDAR
