BEGIN:VCALENDAR
VERSION:2.0
PRODID:-//ChamberMaster//Event Calendar 2.0//EN
METHOD:PUBLISH
X-PUBLISHED-TTL:P3D
REFRESH-INTERVAL:P3D
CALSCALE:GREGORIAN
BEGIN:VEVENT
DTSTART:20120118T173000Z
DTEND:20120118T183000Z
X-MICROSOFT-CDO-ALLDAYEVENT:FALSE
SUMMARY:Events Committee
DESCRIPTION:Like to plan fun events & find creative ways to promote them? Our EVENTS COMMITTEE is your ticket for a good time!
X-ALT-DESC;FMTTYPE=text/html:<span style="color:#000080\;"><span style="font-size: 11px\;"><span style="font-family: tahoma\;">Like to plan fun events &amp\; find creative ways to promote them? Our EVENTS COMMITTEE is your ticket for a good time!</span></span></span>
LOCATION:
UID:e.380.143023
SEQUENCE:3
DTSTAMP:20260426T002424Z
URL:http://members.metronorthchamber.org/events/details/events-committee-01-18-2012-143023
END:VEVENT

END:VCALENDAR
