BEGIN:VCALENDAR
VERSION:2.0
PRODID:-//ChamberMaster//Event Calendar 2.0//EN
METHOD:PUBLISH
X-PUBLISHED-TTL:P3D
REFRESH-INTERVAL:P3D
CALSCALE:GREGORIAN
BEGIN:VEVENT
DTSTART:20120218T170000Z
DTEND:20120219T020000Z
X-MICROSOFT-CDO-ALLDAYEVENT:FALSE
SUMMARY:Event at The nMotion Dance Center
DESCRIPTION:We are partnering with LavishTEEN  & My Lavish Party to bring you a "Day with Lavish". Come experience one of the Twin Cities most up & coming photography services. Great for professional headshots\, Father's Day gift\, or team buidling for business and school groups like band\, drama club or dance team.\n\n\n\nGet complete hair\, make-up\, up to three wardrobe changes and private photo shoot for only $64 (normally $194). Sat. Feb. 18th from 11:00am -8:00.  Ages 12 - adult\, girls & women only.\n\n\n\nYou must pre-register\, open to the general public!  See flyer for details.
X-ALT-DESC;FMTTYPE=text/html:We are partnering with <em>LavishTEEN</em>&nbsp\; &amp\; <em>My Lavish Party </em>to bring you a &quot\;Day with Lavish&quot\;. Come experience one of the Twin Cities most up &amp\; coming photography services. Great for professional headshots\, Father&#39\;s Day gift\, or team buidling for business and&nbsp\;school groups like band\, drama club or dance team.<br />\n<br />\nGet complete hair\, make-up\, up to three wardrobe changes and private photo shoot for only $64 (normally $194). Sat. Feb. 18th from 11:00am -8:00.&nbsp\; Ages 12 - adult\, girls &amp\; women only.<br />\n<br />\nYou must pre-register\, open to the general public!&nbsp\; See <a href="http://cloud.chambermaster.com/userfiles/UserFiles/chambers/380/File/Lavish.pdf">flyer</a> for details.<br />\n<br />\n<br />\n
LOCATION:The nMotion Dance Center 7950 University Ave. NE\, Fridley\, MN 55432
UID:e.380.143464
SEQUENCE:3
DTSTAMP:20260425T230217Z
URL:http://members.metronorthchamber.org/events/details/event-at-the-nmotion-dance-center-02-18-2012-143464
END:VEVENT

END:VCALENDAR
