BEGIN:VCALENDAR
VERSION:2.0
PRODID:-//ChamberMaster//Event Calendar 2.0//EN
METHOD:PUBLISH
X-PUBLISHED-TTL:P3D
REFRESH-INTERVAL:P3D
CALSCALE:GREGORIAN
BEGIN:VEVENT
DTSTART:20130913T000000Z
DTEND:20130913T010000Z
X-MICROSOFT-CDO-ALLDAYEVENT:FALSE
SUMMARY:Event at Take Shape for Life
DESCRIPTION:Please join us ....\n\n\n\nWe will be having a "Healthy Happy Hour"\n\n\n\non September 12th @ 7:00 pm\n\n\n\nWe will be enjoying Healthy appetizers and drinks\n\n\n\nWe will share success stories.\n\nHelp you implement a few Healthy Habits to improve your health\n\nEnjoy good food and friends
X-ALT-DESC;FMTTYPE=text/html:Please join us ....<br />\n<br />\nWe will be having a &quot\;Healthy Happy Hour&quot\;<br />\n<br />\non September 12th @ 7:00 pm<br />\n<br />\nWe will be enjoying Healthy appetizers and drinks<br />\n<br />\nWe will share success stories.<br />\nHelp you implement a few Healthy Habits to improve your health<br />\nEnjoy good food and friends
LOCATION:11101 Hillsboro Ave No.\,Champlin\, MN 55316
UID:e.380.149494
SEQUENCE:3
DTSTAMP:20260424T161832Z
URL:http://members.metronorthchamber.org/events/details/event-at-take-shape-for-life-09-12-2013-149494
END:VEVENT

END:VCALENDAR
