BEGIN:VCALENDAR
VERSION:2.0
PRODID:-//ChamberMaster//Event Calendar 2.0//EN
METHOD:PUBLISH
X-PUBLISHED-TTL:P3D
REFRESH-INTERVAL:P3D
CALSCALE:GREGORIAN
BEGIN:VEVENT
DTSTART:20120415T200000Z
DTEND:20120416T070000Z
X-MICROSOFT-CDO-ALLDAYEVENT:FALSE
SUMMARY:Event at Ole Piper Inn
DESCRIPTION:Ole Piper Inn  Invites You to Join:\n\n	\n\n	Stevie's Wonders MS 150 BIKE TEAM\n\n	 \n\n	For Our:\n\n	MS 150 Kick-Off PARTY!\n\n	 \n\n	RAFFLES\n\n	\n\n	PRIZES\n\n	\n\n	*Join the team    *Volunteer    *Learn More\n\n	\n\n	Sunday\, April 15\, 2012\n\n	3:00pm
X-ALT-DESC;FMTTYPE=text/html:<p style="text-align: center">\n	<strong><span style="font-size: 18px"><span style="font-size: 22px"><em>Ole Piper Inn&nbsp\; </em></span>Invites You&nbsp\;to </span></strong><strong><span style="font-size: 18px">Join:<br />\n	<br />\n	Stevie&#39\;s Wonders MS 150 BIKE TEAM</span></strong><br />\n	&nbsp\;</p>\n<p style="text-align: center">\n	<strong><span style="font-size: 18px">For Our:</span></strong></p>\n<p style="text-align: center">\n	<span style="font-size: 24px"><span style="color: #ff0000"><strong>MS 150 Kick-Off PARTY!</strong></span></span><br />\n	&nbsp\;</p>\n<p style="text-align: center">\n	<strong><span style="font-size: 20px"><span style="background-color: #ffff00">RAFFLES</span></span></strong><br />\n	<br />\n	<strong><span style="font-size: 20px"><span style="background-color: #ffff00">PRIZES</span><br />\n	<br />\n	*Join the team&nbsp\; &nbsp\; *Volunteer&nbsp\; &nbsp\; *Learn More<br />\n	<br />\n	<span style="color: #ff0000"><span style="font-size: 28px">Sunday\, April 15\, 2012<br />\n	3:00pm</span></span></span></strong></p>\n
LOCATION:Ole Piper Inn 1416 93rd Lane and Central Blaine\, MN 55449
UID:e.380.143795
SEQUENCE:3
DTSTAMP:20260425T192524Z
URL:http://members.metronorthchamber.org/events/details/event-at-ole-piper-inn-04-15-2012-143795
END:VEVENT

END:VCALENDAR
