BEGIN:VCALENDAR
VERSION:2.0
PRODID:-//ChamberMaster//Event Calendar 2.0//EN
METHOD:PUBLISH
X-PUBLISHED-TTL:P3D
REFRESH-INTERVAL:P3D
CALSCALE:GREGORIAN
BEGIN:VEVENT
DTSTART:20140703T000000Z
DTEND:20140703T010000Z
X-MICROSOFT-CDO-ALLDAYEVENT:FALSE
SUMMARY:Event at Kimberly Laine LLC
DESCRIPTION:Suffering from the\n\n\n\nSugar Blues?\n\n\n\nAre you constantly craving sweets and want to understand why? \n\nDo you want to gain control without deprivation?\n\n \n\nPlease join\n\n\nKim Laine\n\nHealth Coach\n\nDream Builder WHOLE Life Coach and Transformational Speaker\n\n\n\n \n\nWednesday\, July 2\n\n7 p.m.\n\n \n\nLocation\n\nThe Holistic Gateway\n\n1415 6th Street NE\, Unit 2\n\nMinneapolis\n\n \n\nFor details\, please call 763-350-7551.\n\ne-mail kimlainedbc@gmail.com\n\n \n\n\nKim Laine\n\nDream Builder WHOLE LIFE Coach and Transformational Speaker\n\n763-350-7551 (cell)\n\n763-788-0213 (office)\n\nkimlainedbc@gmail.com\n\nKimLaine.LifeMasteryInstitute.com\n\nhttp://kimberly-laine.healthcoach.integrativenutrition.com\n\nfacebook: http://www.facebook.com/kimlainedbc\n\nTwitter: @kimlaine69
X-ALT-DESC;FMTTYPE=text/html:&nbsp\;\n<div><span style="font-size:26px\;"><strong>Suffering from the</strong></span><br />\n<br />\n<span style="font-size:36px\;"><strong>Sugar Blues?</strong></span><br />\n<br />\nAre you constantly craving sweets and want to understand why?&nbsp\;</div>\n\n<div>Do you want to gain control without deprivation?</div>\n\n<div>&nbsp\;</div>\n\n<div>Please join</div>\n\n<div>\n<div><span style="font-size:18px\;">Kim Laine</span></div>\n\n<div>Health Coach</div>\n\n<div>Dream Builder WHOLE Life Coach and Transformational Speaker<br />\n<br />\n&nbsp\;</div>\n\n<div>Wednesday\, July 2</div>\n\n<div>7 p.m.</div>\n\n<div>&nbsp\;</div>\n\n<div>Location</div>\n\n<div>The Holistic Gateway</div>\n\n<div>1415 6th Street NE\, Unit 2</div>\n\n<div>Minneapolis</div>\n\n<div>&nbsp\;</div>\n\n<div>For details\, please call 763-350-7551.</div>\n\n<div>e-mail kimlainedbc@gmail.com</div>\n\n<div>&nbsp\;</div>\n</div>\n\n<div style="font-family: arial\; font-size: small\;"><font face="comic sans ms\, sans-serif">Kim Laine</font></div>\n\n<div style="font-family: arial\; font-size: small\;"><font face="comic sans ms\, sans-serif">Dream Builder WHOLE LIFE Coach and&nbsp\;</font><span style="font-family: 'comic sans ms'\, sans-serif\;">Transformational Speaker</span></div>\n\n<div style="font-family: arial\; font-size: small\;"><font face="comic sans ms\, sans-serif">763-350-7551 (cell)</font></div>\n\n<div style="font-family: arial\; font-size: small\;"><font face="comic sans ms\, sans-serif">763-788-0213 (office)</font></div>\n\n<div style="font-family: arial\; font-size: small\;"><font face="comic sans ms\, sans-serif"><a href="mailto:kimlainedbc@gmail.com" style="color: rgb(17\, 85\, 204)\;" target="_blank">kimlainedbc@gmail.com</a></font></div>\n\n<div style="font-family: arial\; font-size: small\;"><a href="http://kimlaine.lifemasteryinstitute.com/" style="color: rgb(17\, 85\, 204)\;" target="_blank">KimLaine.LifeMasteryInstitute.com</a></div>\n\n<div style="font-family: arial\; font-size: small\;"><a href="http://kimberly-laine.healthcoach.integrativenutrition.com/" style="color: rgb(17\, 85\, 204)\;" target="_blank">http://kimberly-laine.healthcoach.integrativenutrition.com</a></div>\n\n<div style="font-family: arial\; font-size: small\;">facebook:&nbsp\;<a href="http://www.facebook.com/kimlainedbc" style="color: rgb(17\, 85\, 204)\;" target="_blank">http://www.facebook.com/kimlainedbc</a></div>\n\n<div style="font-family: arial\; font-size: small\;">Twitter: @kimlaine69</div>\n
LOCATION:Holistic Gateway 1415 6th Street NE\, Unit 2 Minneapolis\, MN
UID:e.380.151404
SEQUENCE:3
DTSTAMP:20260423T234831Z
URL:http://members.metronorthchamber.org/events/details/event-at-kimberly-laine-llc-07-02-2014-151404
END:VEVENT

END:VCALENDAR
