BEGIN:VCALENDAR
VERSION:2.0
PRODID:-//ChamberMaster//Event Calendar 2.0//EN
METHOD:PUBLISH
X-PUBLISHED-TTL:P3D
REFRESH-INTERVAL:P3D
CALSCALE:GREGORIAN
BEGIN:VEVENT
DTSTART:20140723T233000Z
DTEND:20140724T013000Z
X-MICROSOFT-CDO-ALLDAYEVENT:FALSE
SUMMARY:Event at Healthy Vibe with Jockey Person to Person Clothing ....Sample Sale!!!
DESCRIPTION:Stop by and get some AWESOME Deals on Spring/Summer Clothing!!!\n\n\n\nGreat way to stretch your Dollars!!\n\n\n\nHave fun with a Great bunch of Ladies!! =)
X-ALT-DESC;FMTTYPE=text/html:Stop by and get some AWESOME Deals on Spring/Summer Clothing!!!<br />\n<br />\nGreat way to stretch your Dollars!!<br />\n<br />\nHave fun with a Great bunch of Ladies!! =)
LOCATION:Healthy Vibe 3450 Bunker Lake Blvd Rd Andover\, MN 55304
UID:e.380.151501
SEQUENCE:3
DTSTAMP:20260424T000137Z
URL:http://members.metronorthchamber.org/events/details/event-at-healthy-vibe-with-jockey-person-to-person-clothing-sample-sale-07-23-2014-151501
END:VEVENT

END:VCALENDAR
