BEGIN:VCALENDAR
VERSION:2.0
PRODID:-//ChamberMaster//Event Calendar 2.0//EN
METHOD:PUBLISH
X-PUBLISHED-TTL:P3D
REFRESH-INTERVAL:P3D
CALSCALE:GREGORIAN
BEGIN:VEVENT
DTSTART:20120516T233000Z
DTEND:20120517T003000Z
X-MICROSOFT-CDO-ALLDAYEVENT:FALSE
SUMMARY:Event at HealthSource of Blaine Chiropractic and Progressive Rehab
DESCRIPTION:Anyone interested in learning more about the benefits of healthy nutrion\, gaining energry and living a healthier lifestyle should come to this free event featureing Denise from Core Nutrition @ Daily Shape and Dr. Bob Vaughn D.C. of HealthSource of Blaine.   \n\n\n\nThis is a fun a way to learn how to change your lifestyle.
X-ALT-DESC;FMTTYPE=text/html:Anyone interested in learning more about the benefits of healthy nutrion\, gaining energry and living a healthier lifestyle should come to this free event featureing Denise from Core Nutrition @ Daily Shape and Dr. Bob Vaughn D.C. of HealthSource of Blaine. &nbsp\;&nbsp\;<br />\n<br />\nThis is a fun a way to learn how to change your lifestyle.&nbsp\;
LOCATION:HealthSource of Blaine 10904 Baltimore ST NE Blaine MN 55449
UID:e.380.143812
SEQUENCE:3
DTSTAMP:20260425T181621Z
URL:http://members.metronorthchamber.org/events/details/event-at-healthsource-of-blaine-chiropractic-and-progressive-rehab-05-16-2012-143812
END:VEVENT

END:VCALENDAR
