BEGIN:VCALENDAR
VERSION:2.0
PRODID:-//ChamberMaster//Event Calendar 2.0//EN
METHOD:PUBLISH
X-PUBLISHED-TTL:P3D
REFRESH-INTERVAL:P3D
CALSCALE:GREGORIAN
BEGIN:VEVENT
DTSTART:20141021T230000Z
DTEND:20141021T233000Z
X-MICROSOFT-CDO-ALLDAYEVENT:FALSE
SUMMARY:Event at HealthSource Chiropractic and Progressive Rehab of Blaine
DESCRIPTION:Are you livin' your dream?   \n\n\n\nIf yes great.  IF no why not?\n\n\n\nEither way join us to learn how to make Great health as simple as 1\,2\,3
X-ALT-DESC;FMTTYPE=text/html:Are you livin&#39\; your dream? &nbsp\;&nbsp\;<br />\n<br />\nIf yes great. &nbsp\;IF no why not?<br />\n<br />\nEither way join us to learn how to make Great health as simple as 1\,2\,3<br />\n<br />\n&nbsp\;
LOCATION:HealthSource of Blaine 10904 Baltimore st NE Blaine MN 55449
UID:e.380.151527
SEQUENCE:3
DTSTAMP:20260423T210256Z
URL:http://members.metronorthchamber.org/events/details/event-at-healthsource-chiropractic-and-progressive-rehab-of-blaine-10-21-2014-151527
END:VEVENT

END:VCALENDAR
