BEGIN:VCALENDAR
VERSION:2.0
PRODID:-//ChamberMaster//Event Calendar 2.0//EN
METHOD:PUBLISH
X-PUBLISHED-TTL:P3D
REFRESH-INTERVAL:P3D
CALSCALE:GREGORIAN
BEGIN:VEVENT
DTSTART:20120112T000000Z
DTEND:20120112T000000Z
X-MICROSOFT-CDO-ALLDAYEVENT:FALSE
SUMMARY:Event at Core Nutrition
DESCRIPTION:$$ BIGGEST LOSER CHALLENGE $$ IT PAYS TO LOSE WEIGHT $$\n\nJoin our challenge for only $35 and you receive:\n\nRegistration money is paid out in cash prizes to the top 2 winners\n\nBring 3 friends and receive a FREE product\n\nYour own personal coach\n\nFREE Body analysis\n\nInformational classes\, group support and Much More!!\n\n\n\n\n\nCall Denise at 612-618-5736 for more information
X-ALT-DESC;FMTTYPE=text/html:$$ BIGGEST LOSER CHALLENGE $$ IT PAYS TO LOSE WEIGHT $$<br />\nJoin our challenge for only $35 and you receive:<br />\nRegistration money is paid out in cash prizes to the top 2 winners<br />\nBring 3 friends and receive a FREE product<br />\nYour own personal coach<br />\nFREE Body analysis<br />\nInformational classes\, group support and Much More!!<br />\n<br />\n<br />\nCall Denise at 612-618-5736 for more information
LOCATION:Core Nutrition @ Daily Shape 10950 Club West Pkwy STe 130 Blaine
UID:e.380.143014
SEQUENCE:3
DTSTAMP:20260426T001509Z
URL:http://members.metronorthchamber.org/events/details/event-at-core-nutrition-01-11-2012-143014
END:VEVENT

END:VCALENDAR
