BEGIN:VCALENDAR
VERSION:2.0
PRODID:-//ChamberMaster//Event Calendar 2.0//EN
METHOD:PUBLISH
X-PUBLISHED-TTL:P3D
REFRESH-INTERVAL:P3D
CALSCALE:GREGORIAN
BEGIN:VEVENT
DTSTART;VALUE=DATE:20120109
DTEND;VALUE=DATE:20120110
TRANSP:TRANSPARENT
X-MICROSOFT-CDO-ALLDAYEVENT:TRUE
SUMMARY:Event at Core Nutrition
DESCRIPTION:Eat too many naughty foods over the Holidays? Put on extra unwanted weight this year? Jump start your weight lost with a 31  Day Digestive Weight loss Challenge. Lose weight and win Money. You could be the next Biggest Loser!\n\nCall Denise at 612-618-5736 for more information on how to be a part of this FUN Challenge\n\n\n\n$20.00 entry fees and programs vary for each individual depending on their own goals.\n\nReceive a FREE Body Analysis to design program to your own needs and goals.
X-ALT-DESC;FMTTYPE=text/html:Eat too many naughty foods over the Holidays? Put on extra unwanted weight this year? Jump start your weight lost with a 31&nbsp\; Day Digestive Weight loss Challenge. Lose weight and win Money. You could be the next Biggest Loser!<br />\nCall Denise at 612-618-5736 for more information on how to be a part of this FUN Challenge<br />\n<br />\n$20.00 entry fees and programs vary for each individual depending on their own goals.<br />\nReceive a FREE Body Analysis to design program to your own needs and goals.
LOCATION:Core Nutrition @ Daily Shape 10950 Club West Pkwy STE 130 Blaine Mn 55449
UID:e.380.143013
SEQUENCE:3
DTSTAMP:20260426T015338Z
URL:http://members.metronorthchamber.org/events/details/event-at-core-nutrition-01-09-2012-143013
END:VEVENT

END:VCALENDAR
