BEGIN:VCALENDAR
VERSION:2.0
PRODID:-//ChamberMaster//Event Calendar 2.0//EN
METHOD:PUBLISH
X-PUBLISHED-TTL:P3D
REFRESH-INTERVAL:P3D
CALSCALE:GREGORIAN
BEGIN:VEVENT
DTSTART:20120519T180000Z
DTEND:20120519T210000Z
X-MICROSOFT-CDO-ALLDAYEVENT:FALSE
SUMMARY:Event at Central Spirits Liquor Store
DESCRIPTION:American Craft Beer Week\n\n	Special Tasting Event\n\n	\n\n	Join Us For Many Craft Beer Samples\n\n	Gift Certificate Give-a-Ways\n\n	Beer Cheese Soup\n\n	Beer Bottle Toss\n\n	Free Bottle Openers
X-ALT-DESC;FMTTYPE=text/html:<div style="text-align: center">\n	<span style="color: #ff0000"><span style="font-size: 22px"><strong>American Craft Beer Week</strong></span></span></div>\n<div style="text-align: center">\n	<span style="color: #0000ff"><span style="font-size: 20px"><em><strong>Special Tasting Event</strong></em></span></span><br />\n	<br />\n	<span style="font-size: 20px"><strong><span style="color: #000000">Join Us For Many Craft Beer Samples</span><br />\n	<span style="color: #ff0000">Gift Certificate Give-a-Ways</span><br />\n	<span style="color: #0000ff">Beer Cheese Soup</span><br />\n	<span style="color: #ff0000">Beer Bottle Toss</span><br />\n	<span style="color: #0000ff">Free Bottle Openers</span></strong></span></div>\n
LOCATION:1438 93rd Lane and Hwy 65 --Central Spirits Wine and Liquor
UID:e.380.144078
SEQUENCE:3
DTSTAMP:20260425T181052Z
URL:http://members.metronorthchamber.org/events/details/event-at-central-spirits-liquor-store-05-19-2012-144078
END:VEVENT

END:VCALENDAR
