BEGIN:VCALENDAR
VERSION:2.0
PRODID:-//ChamberMaster//Event Calendar 2.0//EN
METHOD:PUBLISH
X-PUBLISHED-TTL:P3D
REFRESH-INTERVAL:P3D
CALSCALE:GREGORIAN
BEGIN:VEVENT
DTSTART:20130228T150000Z
DTEND:20130228T151500Z
X-MICROSOFT-CDO-ALLDAYEVENT:FALSE
SUMMARY:Event at Boland Training and Development Group
DESCRIPTION:Join us on the radio show\, Conversations That Matter hosted by Boland Training and Development.  This week's episode is entitled\, The Art of Saying No.\n\nIn this 15-minute segment\, we will dive deeply in to what impact "saying yes to everyone" has on ourselves and others and give some great techniques to help you avoid getting trapped in always saying yes.
X-ALT-DESC;FMTTYPE=text/html:Join us on the radio show\, <u><a href="http://www.blogtalkradio.com/bolandtraininganddevelopment"><span style="color:#008000\;">Conversations That Matter</span></a></u> hosted by Boland Training and Development. &nbsp\;This week&#39\;s episode is entitled\, <em><strong>The Art of Saying No</strong></em>.<br />\nIn this 15-minute segment\, we will dive deeply in to what impact &quot\;saying yes to everyone&quot\; has on ourselves and others and give some great techniques to help you avoid <em>getting trapped</em> in always saying yes.<br />\n<br />\n
LOCATION:Listen live online (and access archives) at Conversations That Matter on Blog Talk Radio. Or\, call (646) 200-0594 (lines are limited so dial in early).
UID:e.380.148652
SEQUENCE:3
DTSTAMP:20260425T032445Z
URL:http://members.metronorthchamber.org/events/details/event-at-boland-training-and-development-group-02-28-2013-148652
END:VEVENT

END:VCALENDAR
