BEGIN:VCALENDAR
VERSION:2.0
PRODID:-//ChamberMaster//Event Calendar 2.0//EN
METHOD:PUBLISH
X-PUBLISHED-TTL:P3D
REFRESH-INTERVAL:P3D
CALSCALE:GREGORIAN
BEGIN:VEVENT
DTSTART:20141024T000000Z
DTEND:20141024T010000Z
X-MICROSOFT-CDO-ALLDAYEVENT:FALSE
SUMMARY:Event at Blaine Family Chiropractic\, Better YOUR Life in Just 30 Days
DESCRIPTION:Better Your Life in Just 30 Days\n\n\n\nQuick\, easy transformations we can make to our crazy days to better our lives in just 30 days.  Feel the excitement of health\, wellness and a better life when you leave the door.  All are welcome\, make it a fantastic day!
X-ALT-DESC;FMTTYPE=text/html:Better Your Life in Just 30 Days<br />\n<br />\nQuick\, easy transformations we can make to our crazy days to better our lives in just 30 days. &nbsp\;Feel the excitement of health\, wellness and a better life when you leave the door. &nbsp\;All are welcome\, make it a fantastic day!
LOCATION:10950 Club West Parkway\, Suite 110 Blaine\, MN 55449
UID:e.380.151577
SEQUENCE:3
DTSTAMP:20260423T192532Z
URL:http://members.metronorthchamber.org/events/details/event-at-blaine-family-chiropractic-better-your-life-in-just-30-days-10-23-2014-151577
END:VEVENT

END:VCALENDAR
