BEGIN:VCALENDAR
VERSION:2.0
PRODID:-//ChamberMaster//Event Calendar 2.0//EN
METHOD:PUBLISH
X-PUBLISHED-TTL:P3D
REFRESH-INTERVAL:P3D
CALSCALE:GREGORIAN
BEGIN:VEVENT
DTSTART:20111116T133000Z
DTEND:20111116T160000Z
X-MICROSOFT-CDO-ALLDAYEVENT:FALSE
SUMMARY:Event at ActionCOACH MetroNorth
DESCRIPTION:Attention: Business Owners & Business Leaders \n\nIs Your Team Working for You?\n\n\n\nTurn Your Team of Champions into a Champion Team!\n\nIf you are ever going to take time out from running your business\, then the people who work there will need to run it for you.\n\n\n\nIn most businesses employees are referred to as your staff after attending this workshop\, they will be called your team. Staff requires constant supervision. A team is dedicated because your success and their success in intertwined.\n\n\n\nThis workshop is not for everyone. Only those who are truly ready to have their team take over the lead. Building a team is a process anyone can follow. Now it's time for you and your team to learn the process.\n\n\n\nSeats are limited!\n\nCall the ActionCOACHMN office NOW at (612)567-2266 to guarantee your place!
X-ALT-DESC;FMTTYPE=text/html:<strong><span style="color: #3333ff"><span style="font-size: 16px">Attention: Business Owners &amp\; Business Leaders </span></span><br />\n<span style="color: #b22222"><span style="font-size: 16px">Is Your Team Working for You?</span></span></strong><br />\n<br />\n<span style="font-size: 16px"><span style="color: #0000ff">Turn Your Team of Champions into a Champion Team!</span><br />\n<span style="font-size: 14px">If you are ever going to take time out from running your business\, then the people who work there will need to run it for you.<br />\n<br />\nIn most businesses employees are referred to as your staff after attending this workshop\, they will be called your team. Staff requires constant supervision. A team is dedicated because your success and their success in intertwined.</span><br />\n<br />\n<span style="font-size: 14px">This workshop is not for everyone. Only those who are truly ready to have their team take over the lead. Building a team is a process anyone can follow. Now it&rsquo\;s time for you and your team to learn the process.<br />\n<br />\nSeats are limited!<br />\n<em><strong><span style="color: #0000ff">Call the ActionCOACHMN office NOW at (612)567-2266 to guarantee your place!</span></strong></em></span></span><br />\n<br />\n
LOCATION:ActionCOACH MetroNorth Office 6575 141st Avenue NW\, Suite 100\, Ramsey\, MN
UID:e.380.142837
SEQUENCE:3
DTSTAMP:20260426T033050Z
URL:http://members.metronorthchamber.org/events/details/event-at-actioncoach-metronorth-11-16-2011-142837
END:VEVENT

END:VCALENDAR
