BEGIN:VCALENDAR
VERSION:2.0
PRODID:-//ChamberMaster//Event Calendar 2.0//EN
METHOD:PUBLISH
X-PUBLISHED-TTL:P3D
REFRESH-INTERVAL:P3D
CALSCALE:GREGORIAN
BEGIN:VEVENT
DTSTART:20120509T123000Z
DTEND:20120509T150000Z
X-MICROSOFT-CDO-ALLDAYEVENT:FALSE
SUMMARY:Event at ActionCOACH MetroNorth
DESCRIPTION:Learn How To Market MORE Effectively...\n\n\n\nDid you know that marketing is not just advertising? Marketing is Communication and Education.\n\n\n\nThe bottom line is: Does your prospect clearly understand how you can assist them?\n\n\n\nImagine having a clear definition of your ideal client with the activities and timelines for\n\ncommunication. Marketing campaigns can be very simple or very extravagant.\n\nBy implementing a consistent marketing campaign you will bring balance to the highs and lows.\n\nWhile it is true that the economy is going to fluctuate and that things are going to happen which will make business difficult\, but that is not surprising\, is it? There are businesses thriving at the moment\, so what are they doing that others aren't? It is at times like this that the proactive businesses are going to stand out from the norm.\n\n\n\nThe question is...\n\nDo you want to be part of the norm or do you want to be at the top of your league?\n\n\n\nSeats are limited!\n\nCall ActionCOACH MetroNorth offices NOW at (612)567-2266\n\nto guarantee your place!
X-ALT-DESC;FMTTYPE=text/html:<strong>Learn How To Market <span style="color:#cc0033\;">MORE</span> Effectively...</strong><br />\n<br />\nDid you know that marketing is not just advertising? Marketing is Communication and Education.<br />\n<br />\nThe bottom line is: Does your prospect clearly understand how you can assist them?<br />\n<br />\nImagine having a clear definition of your ideal client with the activities and timelines for<br />\ncommunication. Marketing campaigns can be very simple or very extravagant.<br />\nBy implementing a consistent marketing campaign you will bring balance to the highs and lows.<br />\nWhile it is true that the economy is going to fluctuate and that things are going to happen which will make business difficult\, but that is not surprising\, is it? There are businesses thriving at the moment\, so what are they doing that others aren&rsquo\;t? It is at times like this that the proactive businesses are going to stand out from the norm.<br />\n<br />\nThe question is...<br />\nDo you want to be part of the norm or do you want to be at the top of your league?<br />\n<br />\nSeats are limited!<br />\nCall <strong><span style="color:#cc0033\;">Action</span><span style="color:#0000ff\;">COACH</span></strong>&nbsp\;<strong><span style="color:#0000ff\;">MetroNorth</span></strong> offices <em><strong><span style="color:#cc0033\;">NOW</span></strong></em> <span style="color:#0000ff\;">at (612)567-2266<br />\nto guarantee your place!&nbsp\;</span>
LOCATION:ActionCOACH MetroNorth 6575 141st Avenue NW\, Ste. 100 Ramsey\, MN 55371
UID:e.380.143504
SEQUENCE:3
DTSTAMP:20260425T192436Z
URL:http://members.metronorthchamber.org/events/details/event-at-actioncoach-metronorth-05-09-2012-143504
END:VEVENT

END:VCALENDAR
