BEGIN:VCALENDAR
VERSION:2.0
PRODID:-//ChamberMaster//Event Calendar 2.0//EN
METHOD:PUBLISH
X-PUBLISHED-TTL:P3D
REFRESH-INTERVAL:P3D
CALSCALE:GREGORIAN
BEGIN:VEVENT
DTSTART:20120412T123000Z
DTEND:20120412T150000Z
X-MICROSOFT-CDO-ALLDAYEVENT:FALSE
SUMMARY:Event at ActionCOACH MetroNorth
DESCRIPTION:This workshop will provide you with specific\, effective ideas and systems that will MASSIVELY IMPROVE YOUR BUSINESS IMMEDIATELY!\n\n\n	\n		How to work ON your business instead of IN your business\n	\n		How to take immediate control of the time you spend at your business\n	\n		How to turn your advertising and marketing into an investment instead of an expense\n	\n		How to get back thousands of dollars in lost profits\n	\n		How to recruit\, motivate\, educate and retain exceptional employees\n	\n		How to leverage your time to maximize efficiency and profits\n	\n		How to systematize your business to provide consistent\, exceptional customer service\n	\n		How to get the quality of life that you started your business for in the first place \n\nCall 612-567-2266 to Register TODAY!
X-ALT-DESC;FMTTYPE=text/html:This workshop will provide you with specific\, effective ideas and systems that will<strong> MASSIVELY IMPROVE YOUR BUSINESS IMMEDIATELY!</strong><br />\n<ul>\n	<li>\n		How to work<strong> ON</strong> your business instead of <strong>IN</strong> your business</li>\n	<li>\n		How to take immediate control of the time you spend at your business</li>\n	<li>\n		How to turn your advertising and marketing into an investment instead of an expense</li>\n	<li>\n		How to get back thousands of dollars in lost profits</li>\n	<li>\n		How to recruit\, motivate\, educate and retain exceptional employees</li>\n	<li>\n		How to leverage your time to maximize efficiency and profits</li>\n	<li>\n		How to systematize your business to provide consistent\, exceptional customer service</li>\n	<li>\n		How to get the quality of life that you started your business for in the first place&nbsp\;</li>\n</ul>\n<strong><span style="color:#ff0000\;">Call </span><span style="color:#0033cc\;">612-567-2266 to Register</span><span style="color:#ff0000\;"> TODAY!</span></strong>
LOCATION:ActionCOACH MetroNorth 6575 141st Avenue NW\, Ste. 100 Ramsey\, MN 55303
UID:e.380.143503
SEQUENCE:3
DTSTAMP:20260425T192421Z
URL:http://members.metronorthchamber.org/events/details/event-at-actioncoach-metronorth-04-12-2012-143503
END:VEVENT

END:VCALENDAR
