BEGIN:VCALENDAR
VERSION:2.0
PRODID:-//ChamberMaster//Event Calendar 2.0//EN
METHOD:PUBLISH
X-PUBLISHED-TTL:P3D
REFRESH-INTERVAL:P3D
CALSCALE:GREGORIAN
BEGIN:VEVENT
DTSTART:20120307T133000Z
DTEND:20120307T160000Z
X-MICROSOFT-CDO-ALLDAYEVENT:FALSE
SUMMARY:Event at ActionCOACH MetroNorth
DESCRIPTION:The Essential Workshop for Business Growth\n\n\n\nIs Your Team 100% Committed to Your Success?\n\n\n\nIf you are ever going to take time out from running your business\, then the people who work there will need to run it for you. In most businesses\, employees are referred to as your "Staff". After attending this workshop\, they will be called your "TEAM". Staff requires constant supervision. A team is dedicated because your success and their success are intertwined. This workshop is not for everyone. Only those who are truly ready to have their team take over the lead. Building a team is a process anyone can follow. Not it's time for you and your team to learn the process.\n\n\n\nBy attending\, You will learn these Priceless Techniques: \n\n\n\n  The 6 Keys to a Winning Team \n\n  How to build a supportive & productive culture \n\n  How to effectively communicate with each other \n\n  How to develop an open relationship with your team \n\n\n\n...AND MUCH MORE!\n\n\n\nCall 612-567-2266 to Register TODAY!
X-ALT-DESC;FMTTYPE=text/html:<span style="color:#3366cc\;"><strong><span style="font-size:16px\;"><span style="font-family:tahoma\;">The Essential Workshop for Business Growth</span></span></strong></span><br />\n<br />\n<span style="color:#cc0000\;"><strong><span style="font-size:14px\;"><span style="font-family:tahoma\;">Is Your Team 100% Committed to Your Success?</span></span></strong></span><br />\n<br />\n<span style="font-size:12px\;"><span style="font-family:tahoma\;">If you are ever going to take time out from running your business\, then the people who work there will need to run it for you. In most businesses\, employees are referred to as your &ldquo\;<span style="color:#cc0000\;"><strong>Staff</strong></span>&rdquo\;. After attending this workshop\, they will be called your &ldquo\;<span style="color:#cc0000\;"><strong>TEAM</strong></span>&rdquo\;. Staff requires constant supervision. A team is dedicated because your success and their success are intertwined. This workshop is not for everyone. Only those who are truly ready to have their team take over the lead. Building a team is a process anyone can follow. Not it&rsquo\;s time for you and your team to learn the process.</span></span><br />\n<br />\n<span style="font-size:14px\;"><span style="font-family:tahoma\;">By attending\, You will learn these Priceless Techniques: </span></span><br />\n<br />\n<span style="font-family:tahoma\;"><span style="font-size:12px\;">&middot\;</span></span> <span style="font-family:tahoma\;"><span style="font-size:12px\;">The 6 Keys to a Winning Team&hellip\;<br />\n&middot\; How to build a supportive &amp\; productive culture&hellip\;<br />\n&middot\; How to effectively communicate with each other&hellip\;<br />\n&middot\; How to develop an open relationship with your team&hellip\;<br />\n<br />\n...AND MUCH MORE!</span></span><br />\n<br />\n<strong><span style="color:#cc0033\;"><span style="font-size: 14px\; font-family: tahoma\; ">Call </span></span><span style="font-size: 14px\; font-family: tahoma\; color: blue\; ">612-567-2266 to Register </span><span style="color:#cc0033\;"><span style="font-size: 14px\; font-family: tahoma\; ">TODAY</span><span style="font-size: 14px\; font-family: tahoma\; ">!</span></span></strong>
LOCATION:ActionCOACH MetroNorth Offices 6575 141st Avenue NW\, Ste 100 Ramsey\, MN 55303
UID:e.380.143493
SEQUENCE:3
DTSTAMP:20260425T210932Z
URL:http://members.metronorthchamber.org/events/details/event-at-actioncoach-metronorth-03-07-2012-143493
END:VEVENT

END:VCALENDAR
