BEGIN:VCALENDAR
VERSION:2.0
PRODID:-//ChamberMaster//Event Calendar 2.0//EN
METHOD:PUBLISH
X-PUBLISHED-TTL:P3D
REFRESH-INTERVAL:P3D
CALSCALE:GREGORIAN
BEGIN:VEVENT
DTSTART:20210616T170000Z
DTEND:20210616T173000Z
X-MICROSOFT-CDO-ALLDAYEVENT:FALSE
SUMMARY:European Wax Center Blaine Ribbon Cutting
DESCRIPTION:They will be giving away gift bags to attendees and VIP cards!
X-ALT-DESC;FMTTYPE=text/html:They will be giving away gift bags to attendees and VIP cards!
LOCATION:10450 Baltimore St NE Suite 150 Blaine\, MN 55449
UID:e.380.195058
SEQUENCE:3
DTSTAMP:20260419T125342Z
URL:http://members.metronorthchamber.org/events/details/european-wax-center-blaine-ribbon-cutting-195058
END:VEVENT

END:VCALENDAR
