BEGIN:VCALENDAR
VERSION:2.0
PRODID:-//ChamberMaster//Event Calendar 2.0//EN
METHOD:PUBLISH
X-PUBLISHED-TTL:P3D
REFRESH-INTERVAL:P3D
CALSCALE:GREGORIAN
BEGIN:VEVENT
DTSTART:20170517T000000Z
DTEND:20170517T020000Z
X-MICROSOFT-CDO-ALLDAYEVENT:FALSE
SUMMARY:Essential Oil Lowdown With Joe & Sarah
DESCRIPTION:Wondering what the heck are essential oils but don't know where to ask your questions with out feeling like a newb? As a husband of an oil lady\, Joe's been there\, he's wondered or asked those same questions and he's distilled his answers down for you!\n\nJoin us Tuesday May 16th at 7pm\, for the essential oil lowdown from the man's perspective. Bring your husbands\, oil ladies. Get them to the class where they can ask what oil to use when they are covered in spray paint\, or what oil do you grab when you're out in the field and you've tangled with some jagged metal? Seriously\, it happens!\n\nSarah will be here for the extra harry questions or if you want a Zyto scan\, an oil tool that you swear won't work but always does.\n\nAddress will be emailed with event reminder! Register Here
X-ALT-DESC;FMTTYPE=text/html:<p>Wondering what the heck are essential oils but don&#39\;t know where to ask your questions with out feeling like a newb? As a husband of an oil lady\, Joe&#39\;s been there\, he&#39\;s wondered or asked those same questions and he&#39\;s distilled his answers down for you!</p>\n\n<p>Join us Tuesday May 16th at 7pm\, for the essential oil lowdown from the man&#39\;s perspective. Bring your husbands\, oil ladies. Get them to the class where they can ask what oil to use when they are covered in spray paint\, or what oil do you grab when you&#39\;re out in the field and you&#39\;ve tangled with some jagged metal? Seriously\, it happens!</p>\n\n<p>Sarah will be here for the extra harry questions or if you want a Zyto scan\, an oil tool that you swear won&#39\;t work but always does.</p>\n\n<p>Address will be emailed with event reminder! <strong><u><a href="https://www.eventbrite.com/e/the-essential-oil-lowdown-with-joe-sarah-tickets-33879640918">Register Here</a></u></strong></p>\n
LOCATION:Minneapolis Minneapolis\, MN
UID:e.380.175010
SEQUENCE:3
DTSTAMP:20260421T152723Z
URL:http://members.metronorthchamber.org/events/details/essential-oil-lowdown-with-joe-sarah-175010
END:VEVENT

END:VCALENDAR
