BEGIN:VCALENDAR
VERSION:2.0
PRODID:-//ChamberMaster//Event Calendar 2.0//EN
METHOD:PUBLISH
X-PUBLISHED-TTL:P3D
REFRESH-INTERVAL:P3D
CALSCALE:GREGORIAN
BEGIN:VEVENT
DTSTART:20190514T200000Z
DTEND:20190514T230000Z
X-MICROSOFT-CDO-ALLDAYEVENT:FALSE
SUMMARY:Enterprise Minnesota -- State of Manufacturing Event
DESCRIPTION:The State of Manufacturing \, now in its 11th year\, is the most comprehensive survey of Minnesota's manufacturers. It reveals their perceptions and opinions on the economy and other major issues impacting business. Following the survey release event on May 14 at the Earle Brown Heritage Center in Brooklyn Center\, Enterprise Minnesota will hold State of Manufacturing events throughout Greater Minnesota.
X-ALT-DESC;FMTTYPE=text/html:<div>\n<section class="pageSection constrainedContent whitePageSection" style="box-sizing: border-box\; margin: 0px auto\; outline: none\; padding: 0px\; zoom: 1\; display: flex\; max-width: 1080px\; position: relative\; width: 608.578px\; background-color: rgb(255\, 255\, 255)\; -webkit-box-flex: 1\; flex: 1 0 auto\; -webkit-box-orient: vertical\; -webkit-box-direction: normal\; flex-flow: column\; color: rgb(51\, 51\, 51)\; font-family: &quot\;Open Sans&quot\;\, Arial\, &quot\;Helvetica Neue&quot\;\, Helvetica\, sans-serif\; font-size: 15px\;">\n<div class="sectionContent" style="box-sizing: border-box\; margin: 0px\; outline: none\; padding: 0px 30.4219px\; zoom: 1\; position: relative\; -webkit-box-flex: 1\; flex: 1 1 auto\;">\n<div class="somBodyCopy" style="box-sizing: border-box\; margin: 25px auto\; outline: none\; padding: 0px\; zoom: 1\; max-width: 820px\;">\n<p style="box-sizing: border-box\; margin: 0px\; outline: none\; padding: 0px\; zoom: 1\;">The State of Manufacturing<sup style="box-sizing: border-box\; margin: 0px\; outline: none\; padding: 0px\; zoom: 1\; font-size: 12px\;">&reg\;</sup>\,&nbsp\;now in its 11th year\, is the most comprehensive survey of Minnesota&#39\;s manufacturers. It reveals their perceptions and opinions on the&nbsp\;economy and other major issues impacting business.&nbsp\;Following the survey release event on May 14 at the Earle Brown Heritage Center in Brooklyn Center\, Enterprise&nbsp\;Minnesota will hold State of Manufacturing events&nbsp\;throughout Greater Minnesota.</p>\n</div>\n</div>\n</section>\n\n<section class="pageSection constrainedContent whitePageSection" style="box-sizing: border-box\; margin: 0px auto\; outline: none\; padding: 0px 0px 50px\; zoom: 1\; display: flex\; max-width: 1080px\; position: relative\; width: 608.578px\; background-color: rgb(255\, 255\, 255)\; -webkit-box-flex: 1\; flex: 1 0 auto\; -webkit-box-orient: vertical\; -webkit-box-direction: normal\; flex-flow: column\; color: rgb(51\, 51\, 51)\; font-family: &quot\;Open Sans&quot\;\, Arial\, &quot\;Helvetica Neue&quot\;\, Helvetica\, sans-serif\; font-size: 15px\;">\n<div class="sectionContent" style="box-sizing: border-box\; margin: 0px\; outline: none\; padding: 0px 30.4219px\; zoom: 1\; position: relative\; -webkit-box-flex: 1\; flex: 1 1 auto\;">&nbsp\;</div>\n</section>\n</div>\n
LOCATION:Earle Brown Heritage Center 6155 Earle Brown Dr Brooklyn Center\, MN 55430
UID:e.380.188951
SEQUENCE:3
DTSTAMP:20260420T041655Z
URL:http://members.metronorthchamber.org/events/details/enterprise-minnesota-state-of-manufacturing-event-188951
END:VEVENT

END:VCALENDAR
