BEGIN:VCALENDAR
VERSION:2.0
PRODID:-//ChamberMaster//Event Calendar 2.0//EN
METHOD:PUBLISH
X-PUBLISHED-TTL:P3D
REFRESH-INTERVAL:P3D
CALSCALE:GREGORIAN
BEGIN:VEVENT
DTSTART:20130425T130000Z
DTEND:20130425T140000Z
X-MICROSOFT-CDO-ALLDAYEVENT:FALSE
SUMMARY:Energy Update with Rep. Hortman
DESCRIPTION:As every business owner or manager knows\, energy is an important part of doing business   including reliability\, cost\, type\, and so on. State Representative Melissa Hortman\, chair of the House Energy Policy Committee\, will provide an update on the topic of energy as well as the Energy Omnibus Bill itself. Representatives from utility companies will also give their perspective on current energy issues.
X-ALT-DESC;FMTTYPE=text/html:<span style="color:#000080\;"><span style="font-size: 11px\;"><span style="font-family: tahoma\;"><span style="font-weight: normal\;">As every business owner or manager knows\, energy is an important part of doing business &ndash\; including reliability\, cost\, type\, and so on. State Rep</span>resentative Melissa Hortman\, chair of the House Energy Policy Committee\, will provide an update on the topic of energy as well as the Energy Omnibus Bill itself. Representatives from utility companies will also give their perspective on current energy issues.&nbsp\;<br />\n&nbsp\;<br />\n<br />\n&nbsp\;</span></span></span><br />\n<br />\n
LOCATION:Coon Rapids Ice Center/Cook Conference Room\, 11000 Crooked Lake Blvd where
UID:e.380.148181
SEQUENCE:3
DTSTAMP:20260425T002048Z
URL:http://members.metronorthchamber.org/events/details/energy-update-with-rep-hortman-04-25-2013-148181
END:VEVENT

END:VCALENDAR
