BEGIN:VCALENDAR
VERSION:2.0
PRODID:-//ChamberMaster//Event Calendar 2.0//EN
METHOD:PUBLISH
X-PUBLISHED-TTL:P3D
REFRESH-INTERVAL:P3D
CALSCALE:GREGORIAN
BEGIN:VEVENT
DTSTART:20150910T211500Z
DTEND:20150910T214500Z
X-MICROSOFT-CDO-ALLDAYEVENT:FALSE
SUMMARY:Empowered Health Chiropractic & Wellness Ribbon Cutting
DESCRIPTION:Join us for our Grand Opening and come learn what Empowered Health Chiropractic & Wellness is all about! Goodie bags will be available and a chance to win a Grand Prize! Snacks and beverages will be provided.
X-ALT-DESC;FMTTYPE=text/html:<span style="line-height: 20.7999992370605px\;">Join us for our Grand Opening and come learn what Empowered Health Chiropractic &amp\; Wellness is all about! Goodie bags will be available and a chance to win a Grand Prize! Snacks and beverages will be provided.</span>
LOCATION:Empowered Health Chiropractic & Wellness 4255 Pheasant Ridge Dr NE\, Ste 402 Blaine\, MN 55449
UID:e.380.159563
SEQUENCE:3
DTSTAMP:20260423T030443Z
URL:http://members.metronorthchamber.org/events/details/empowered-health-chiropractic-wellness-ribbon-cutting-09-10-2015-159563
END:VEVENT

END:VCALENDAR
