BEGIN:VCALENDAR
VERSION:2.0
PRODID:-//ChamberMaster//Event Calendar 2.0//EN
METHOD:PUBLISH
X-PUBLISHED-TTL:P3D
REFRESH-INTERVAL:P3D
CALSCALE:GREGORIAN
BEGIN:VEVENT
DTSTART:20150910T190000Z
DTEND:20150910T230000Z
X-MICROSOFT-CDO-ALLDAYEVENT:FALSE
SUMMARY:Empowered Health Chiropractic & Wellness Grand Opening
DESCRIPTION:Join us for our Grand Opening and come learn what Empowered Health Chiropractic & Wellness is all about! Goodie bags will be available and a chance to win a Grand Prize! Snacks and beverages will be provided.
X-ALT-DESC;FMTTYPE=text/html:Join us for our Grand Opening and come learn what Empowered Health Chiropractic &amp\; Wellness is all about! Goodie bags will be available and a chance to win a Grand Prize! Snacks and beverages will be provided.
LOCATION:Empowered Health Chiropractic & Wellness 4255 Pheasant Ridge Dr NE\, Ste 402 Blaine\, MN 55449
UID:e.380.159562
SEQUENCE:3
DTSTAMP:20260423T030442Z
URL:http://members.metronorthchamber.org/events/details/empowered-health-chiropractic-wellness-grand-opening-09-10-2015-159562
END:VEVENT

END:VCALENDAR
