BEGIN:VCALENDAR
VERSION:2.0
PRODID:-//ChamberMaster//Event Calendar 2.0//EN
METHOD:PUBLISH
X-PUBLISHED-TTL:P3D
REFRESH-INTERVAL:P3D
CALSCALE:GREGORIAN
BEGIN:VEVENT
DTSTART:20131218T170000Z
DTEND:20131218T190000Z
X-MICROSOFT-CDO-ALLDAYEVENT:FALSE
SUMMARY:Employee Engagement Lunch & Learn Hosted by Emerald Bay Performance
DESCRIPTION:In this workshop we will go over the importance of employee engagement\, the breakdown in the different levels of employee engagement and employee empowerment.Click here to edit...
X-ALT-DESC;FMTTYPE=text/html:<div style="color: gray">\n	<span style="font-size: 12pt"><span style="font-family: times new roman\, serif"><span style="font-family: times new roman">In this workshop we will go over the importance of employee engagement\, the breakdown in the different levels of employee engagement and employee empowerment.</span></span></span>Click here to edit...</div>\n
LOCATION:MetroNorth Chamber 9380 Central Ave. NE Ste 320 Blaine\, MN 55434
UID:e.380.149931
SEQUENCE:3
DTSTAMP:20260424T124503Z
URL:http://members.metronorthchamber.org/events/details/employee-engagement-lunch-learn-hosted-by-emerald-bay-performance-12-18-2013-149931
END:VEVENT

END:VCALENDAR
