BEGIN:VCALENDAR
VERSION:2.0
PRODID:-//ChamberMaster//Event Calendar 2.0//EN
METHOD:PUBLISH
X-PUBLISHED-TTL:P3D
REFRESH-INTERVAL:P3D
CALSCALE:GREGORIAN
BEGIN:VEVENT
DTSTART:20171026T220000Z
DTEND:20171027T023000Z
X-MICROSOFT-CDO-ALLDAYEVENT:FALSE
SUMMARY:"Emma's Night" YMCA Benefit Dinner
DESCRIPTION:Please join us for a benefit dinner and auction for the Emma B. Howe YMCA.  All proceeds go to support those in our community who need us most have access to quality programs and activities at the Y and in the community!
X-ALT-DESC;FMTTYPE=text/html:Please join us for a benefit dinner and auction for the Emma B. Howe YMCA. &nbsp\;All proceeds go to support those in our community who need us most have access to quality programs and activities at the Y and in the community!
LOCATION:Bunker Hills Event Center 12800 Bunker Prairie Rd NW Coon Rapids\, MN 55448
UID:e.380.175278
SEQUENCE:3
DTSTAMP:20260421T082146Z
URL:http://members.metronorthchamber.org/events/details/emma-s-night-ymca-benefit-dinner-175278
END:VEVENT

END:VCALENDAR
